Workbook
Name _disclosure_date: #REF!
Name _disclosure_date: CoverSheet!$C$8
Name _template_version: #REF!
Name _template_version: CoverSheet!$A$14
Name _title: #REF!
Name _title: CoverSheet!$A$3
Name dd_AssetCategory: #REF!
Name dd_CapacityConstraint: #REF!
Name dd_CausalProxy: #REF!
Name dd_Cause: #REF!
Name dd_opexsalescapex: #REF!
Name dd_opexsalescapex: 'Drop down boxes'!$B$12:$B$21
Name dd_YesNo: #REF!
Name dd_YesNo: 'Drop down boxes'!$B$4:$B$6
Name M: #REF!
Name M: 'F1. RAB'!$L$9:$P$17
Name Remedial: #REF!
Name ScheduleG1: #REF!
Name ScheduleG4: #REF!
Name SFIR: #REF!
Name tb_F1i_1_ptable_data: #REF!
Name tb_F1i_1_ptable_data: 'F1. RAB'!$L$9:$P$17
Name tb_F1i_1_ptable_header: #REF!
Name tb_F1i_1_ptable_header: 'F1. RAB'!$L$6:$P$8
Name tb_F1i_1_ptable_label: #REF!
Name tb_F1i_1_ptable_label: 'F1. RAB'!$E$9:$K$17
Name tb_F1i_1_ptable_subtitle: #REF!
Name tb_F1i_1_ptable_subtitle: 'F1. RAB'!$E$19
Name tb_F1i_2_ptable_data: #REF!
Name tb_F1i_2_ptable_data: 'F1. RAB'!$L$20:$P$21
Name tb_F1i_2_ptable_header: #REF!
Name tb_F1i_2_ptable_header: 'F1. RAB'!$L$6:$P$8
Name tb_F1i_2_ptable_label: #REF!
Name tb_F1i_2_ptable_label: 'F1. RAB'!$E$20:$F$21
Name tb_F1ii_1_ptable_data: #REF!
Name tb_F1ii_1_ptable_data: 'F1. RAB'!$L$27:$P$36
Name tb_F1ii_1_ptable_header: #REF!
Name tb_F1ii_1_ptable_header: 'F1. RAB'!$L$24:$P$26
Name tb_F1ii_1_ptable_label: #REF!
Name tb_F1ii_1_ptable_label: 'F1. RAB'!$E$27:$F$36
Name tb_F1iii_1_cell_data: #REF!,#REF!,#REF!
Name tb_F1iii_1_cell_data: 'F1. RAB'!$P$40,'F1. RAB'!$P$41,'F1. RAB'!$P$42
Name tb_F1iii_1_cell_label: #REF!,#REF!,#REF!
Name tb_F1iii_1_cell_label: 'F1. RAB'!$E$40,'F1. RAB'!$E$41,'F1. RAB'!$E$42
Name tb_F1iii_1_ptable_data: #REF!,#REF!,#REF!,#REF!,#REF!,#REF!,#REF!,#REF!
Name tb_F1iii_1_ptable_data: 'F1. RAB'!$M$45,'F1. RAB'!$M$47,'F1. RAB'!$M$50,'F1. RAB'!$M$52,'F1. RAB'!$O$45,'F1. RAB'!$O$47,'F1. RAB'!$O$50,'F1. RAB'!$O$52
Name tb_F1iii_1_ptable_header: #REF!,#REF!
Name tb_F1iii_1_ptable_header: 'F1. RAB'!$M$44,'F1. RAB'!$O$44
Name tb_F1iii_1_ptable_label: #REF!,#REF!,#REF!,#REF!
Name tb_F1iii_1_ptable_label: 'F1. RAB'!$F$45,'F1. RAB'!$F$47,'F1. RAB'!$F$50,'F1. RAB'!$E$52
Name tb_F1iv_1_ptable_data: #REF!
Name tb_F1iv_1_ptable_data: 'F1. RAB'!$I$58:$R$66
Name tb_F1iv_1_ptable_header: #REF!
Name tb_F1iv_1_ptable_header: 'F1. RAB'!$I$56:$R$57
Name tb_F1iv_1_ptable_label: #REF!
Name tb_F1iv_1_ptable_label: 'F1. RAB'!$E$58:$F$66
Name tb_F1iv_1_ptable_subtitle: #REF!
Name tb_F1iv_1_ptable_subtitle: 'F1. RAB'!$E$68:$F$68
Name tb_F1iv_2_ptable_data: #REF!
Name tb_F1iv_2_ptable_data: 'F1. RAB'!$I$69:$R$70

Sheet Cognos_Office_Connection_Cache

Sheet List
E2: AD
E3: KT
B4: Not started | E4: LW
B5: In progress | E5: RT
B6: In first review | E6: HM
B7: In second review | E7: DF
B8: Complete | E8: ADT
E9: HP
E10: LS
E11: MSR
E12: MS
E13: DLS
E14: JC
E15: LB
E16: TR
E17: JW
E18: AF
E19: RK
E20: KP
... E26: Pending reconfirmation

Sheet CoverSheet
A3: Transpower Information Disclosure Schedules F1-7a, TP1-6, G1-8, SO1
B8: Disclosure Year (year ended) | C8: =+'F1. RAB'!R2 -> 46203
B14: Prepared and Published on 23 October 2026

Sheet Directors' certificate
A2: Directors' Certificate - October 2026

Sheet Table of Contents  
C2: TRANSPOWER INFORMATION DISCLOSURE
C3: Table of Contents
C5: Compliance
D6: Directors' Certificate | E6: Transpower generated
D7: Assurance Report | E7: Transpower generated
C8: Financial Information
C9: F1 | D9: Value of the Regulatory Asset Base (RAB Roll Forward)
C10: F2 | D10: Operating Expenditure (Opex): Actual
C11: F3 | D11: Base Capital Expenditure (Base Capex): Actual Commissioned
C12: F4 | D12: Comparison of Forecasts for Opex and base Capex Commissioning
C13: F5 | D13: Major Capital Expenditure (Major Capex)
C14: F6 | D14: Regulated Revenue
C15: F7 | D15: Cost Allocation
C16: F7a | D16: Asset Allocation
C17: TP1 | D17: ROI and profit calculations (required by ID Determination Clause 8.7 to 8.14) | E17: Transpower generated
C18: TP2 | D18: Major project costs (required by ID Determination Clause 8.18 and 8.19) | E18: Transpower generated
C19: TP3 | D19: Major project timing (required by ID Determination Clause 8.18 and 8.19) | E19: Transpower generated
C20: TP4 | D20: Fully commissioned project details (required by ID Determination Clause 8.20) | E20: None in 2026
C21: TP5 | D21: Related party transactions (required by ID Determination Clause 8.21) | E21: Transpower generated
C22: TP6 | D22: Investment contracts (required by ID Determination Clause 10) | E22: Transpower generated
C23: Grid Management Information
C24: G1 | D24: Transmission System Statistics
C25: G2 | D25: Grid Demand and Injection
C26: G3 | D26: Grid Exit Point (GXP) Connection Capacity and Demand (Actual and Forecast)
C27: G4 | D27: Quality of Supply: Grid Outputs and Performance Measures
C28: G5 | D28: Quality of Supply: Interconnection Assets
C29: G6 | D29: Asset Health and Age (2nd Year of RCP and in RCP Proposal)
C30: G7 | D30: Asset Management Maturity Assessment Tool (AMMAT)
C31: G8 | D31: AMMAT Results Summary
C32: System Operator
C33: SO1 | D33: System Operator

Sheet  Assurance report
A2: Assurance Report - October 2026
A4: .

Sheet F1. RAB
N1: Transpower | P1: Disclosure Date | R1: 46318
A2: SCHEDULE F1: VALUE OF THE REGULATORY ASSET BASE (RAB ROLL FORWARD) | P2: Disclosure Year (year ended) | R2: 46203
A3: Disclosure of line items required from disclosure year 2026 onward are specified in column U. The opening balance of the RAB has been adjusted to bring it in line with the RAB balance in the Annual Compliance Statements. The Commission's decision to allow IDC cap revenue reductions to be subtracted off depreciation means that the ID and ACS RAB's will be aligned going forward. https://comcom.govt.nz/__data/assets/pdf_file/0020/363152/Information-Disclosure-Transpower-Amendment-Determination-2024-Final-Decision-Reasons-Paper-13-November-2024.pdf Clause 2.83 align IPP RAB with ID RAB
A4: ref
A5: =ROW() -> 5 | C5: F1(i): Value of Regulatory Asset Base (RAB Roll Forward)
A6: =ROW() -> 6 | L6: RAB | M6: RAB | N6: RAB | O6: RAB | P6: RAB
A7: =ROW() -> 7 | L7: CY-4 | M7: CY-3 | N7: CY-2 | O7: CY-1 | P7: CY
A8: =ROW() -> 8 | L8: ($M) | M8: ($M) | N8: ($M) | O8: ($M) | P8: ($M)
A9: =ROW() -> 9 | E9: Opening RAB value (excl ACA) | L9: 4.8642165e+09 | M9: 4.8828481e+09 | N9: 4.9564665e+09 | O9: 5.0502123e+09 | P9: =ROUND(+O17,-5) -> 5224500000
A10: =ROW() -> 10 | D10: plus | E10: Value of found assets | L10: 0 | M10: 0 | N10: 0 | O10: 0 | P10: =R76 -> 0
A11: =ROW() -> 11 | D11: less | E11: Value of disposed assets | L11: 8994642.1 | M11: 7467082.2 | N11: 3060788.8 | O11: 3678768 | P11: =SUM(R82:R85) -> 6400000
A12: =ROW() -> 12 | D12: less | E12: Value of lost assets | L12: 0 | M12: 0 | N12: 0 | O12: 0 | P12: =R94 -> 0
A13: =ROW() -> 13 | D13: less | E13: Total depreciation | L13: 2.4760483e+08 | M13: 2.5083635e+08 | N13: 2.556321e+08 | O13: 2.6755847e+08 | P13: =R100 -> 281600000
D14: plus | E14: Total revaluations | L14: 0 | M14: 0 | N14: 0 | O14: 0 | P14: =O52 -> 204100000
A15: =ROW() -> 15 | D15: plus | E15: Total Value of commissioned assets (including acquired assets and costs incurred after an asset is first commissioned) | L15: 2.7523106e+08 | M15: 3.3192189e+08 | N15: 3.3150841e+08 | O15: 4.4551016e+08 | P15: =R107 -> 482500000
A16: =ROW() -> 16 | D16: plus | E16: Adjustment to opening RAB resulting from change in cost allocation | L16: 0 | M16: 0 | N16: 0 | O16: 0 | P16: -300000
A17: =ROW() -> 17 | E17: Closing RAB value | L17: 4.8828481e+09 | M17: 4.9564665e+09 | N17: 5.029282e+09 | O17: 5.2244852e+09 | P17: =+P9+P10-P11-P12-P13+P15+P16+P14 -> 5622800000
A18: =ROW() -> 18
A19: =ROW() -> 19 | D19: plus | E19: Opening RAB of Anticipatory Connection Assets (ACA)
A20: =ROW() -> 20 | E20: Opening RAB value including Anticipatory Connection Assets (ACA) | P20: =+P9+P21 -> 5224500000
A21: =ROW() -> 21 | E21: Value of commissioned ACA | L21: 0 | M21: 0 | N21: 0 | O21: 0 | P21: =+R70 -> 0
A22: =ROW() -> 22
A23: =ROW() -> 23 | C23: F1(ii): Unallocated Regulatory Asset Base
A24: =ROW() -> 24 | L24: Unallocated RAB | M24: Unallocated RAB | N24: Unallocated RAB | O24: Unallocated RAB | P24: Unallocated RAB
A25: =ROW() -> 25 | L25: =+L7 -> CY-4 | M25: =+M7 -> CY-3 | N25: =+N7 -> CY-2 | O25: =+O7 -> CY-1 | P25: =+P7 -> CY
A26: =ROW() -> 26 | L26: ($M) | M26: ($M) | N26: ($M) | O26: ($M) | P26: ($M)
A27: =ROW() -> 27 | E27: Unallocated opening RAB value | L27: 4.9109182e+09 | M27: 4.9330056e+09 | N27: 5.0090564e+09 | O27: 5.0940975e+09 | P27: =ROUND(+O34+V27,-5) -> 5261400000
A28: =ROW() -> 28 | D28: plus | E28: Found assets | L28: 0 | M28: 0 | N28: 0 | O28: 0 | P28: =R77 -> 0
A29: =ROW() -> 29 | D29: less | E29: Asset disposals | L29: 8994642.1 | M29: 7467082.2 | N29: 3060788.8 | O29: 3678768 | P29: =SUM(R86:R89) -> 6400000
A30: =ROW() -> 30 | D30: less | E30: Lost Assets | L30: 0 | M30: 0 | N30: 0 | O30: 0 | P30: =R95 -> 0
A31: =ROW() -> 31 | D31: less | E31: Total depreciation | L31: 2.5985876e+08 | M31: 2.6489715e+08 | N31: 2.7019692e+08 | O31: 2.8048541e+08 | P31: =R101 -> 295900000
D32: plus | E32: Total revaluations | L32: 0 | M32: 0 | N32: 0 | O32: 0 | P32: =M52 -> 2.052e+08
A33: =ROW() -> 33 | D33: plus | E33: Assets commissioned | L33: 2.9094074e+08 | M33: 3.4841508e+08 | N33: 3.3742503e+08 | O33: 4.5149664e+08 | P33: =R108 -> 497800000
A34: =ROW() -> 34 | E34: Unallocated closing RAB value | L34: 4.9330056e+09 | M34: 5.0090564e+09 | N34: 5.0732237e+09 | O34: 5.2614299e+09 | P34: =+P27+P28-P29-P30-P31+P33+P32 -> 5662100000
A35: =ROW() -> 35
A36: =ROW() -> 36 | E36: Result of cost allocation ratio (opening values) | L36: =IF(L17=0,0,L9/L27) -> 0.99049022 | M36: =IF(M17=0,0,M9/M27) -> 0.98983226 | N36: =IF(N17=0,0,N9/N27) -> 0.98950104 | O36: =IF(O17=0,0,O9/O27) -> 0.99138509 | P36: =IF(P17=0,0,P9/P27) -> 0.99298666
A37: =ROW() -> 37
A38: =ROW() -> 38 | C38: F1(iii): Calculation of Revaluation Rate and Revaluation of Assets
A39: =ROW() -> 39
A40: =ROW() -> 40 | E40: CPI4 | P40: 1359
...

Sheet F2.Opex
G1: Transpower | I1: Disclosure Date | K1: =+'F1. RAB'!$R$1 -> 46318
A2: SCHEDULE F2: OPERATING EXPENDITURE (OPEX): ACTUAL | I2: Disclosure Year (year ended) | K2: =CoverSheet!$C$8 -> 46203
A3: Disclosure of line items required and not required from disclosure year 2026 onward are specified in column N.
A4: ref
A5: =ROW() -> 5 | C5: F2(i): Operating Expenditure (Actual Totals)
A6: =ROW() -> 6 | G6: CY-4 | H6: CY-3 | I6: CY-2 | J6: CY-1 | K6: CY
A7: =ROW() -> 7 | G7: ($M) | H7: ($M) | I7: ($M) | J7: ($M) | K7: ($M)
A8: =ROW() -> 8 | D8: Grid - maintenance projects | G8: =G40 -> 0 | H8: =H40 -> 0 | I8: =I40 -> 0 | J8: =J40 -> 0 | K8: =K40 -> 0
A9: =ROW() -> 9 | D9: Grid - routine maintenance | G9: =G48 -> 0 | H9: =H48 -> 0 | I9: =I48 -> 0 | J9: =J48 -> 0 | K9: =K48 -> 0
A10: =ROW() -> 10 | D10: IST - grid | G10: =G48 -> 0 | H10: =H48 -> 0 | I10: =I48 -> 0 | J10: =J48 -> 0 | K10: =K54 -> 0
A11: =ROW() -> 11 | D11: IST - business support | G11: =G59 -> 0 | H11: =H59 -> 0 | I11: =I59 -> 0 | J11: =J59 -> 0 | K11: =K59 -> 0
A12: =ROW() -> 12 | D12: Corporate | G12: =G68 -> 0 | H12: =H68 -> 0 | I12: =I68 -> 0 | J12: =J68 -> 0 | K12: =K68 -> 0
A13: =ROW() -> 13
A14: =ROW() -> 14 | D14: Grid maintenance | G14: =G76 -> 1.0781684e+08 | H14: =H76 -> 1.3353162e+08 | I14: =I76 -> 1.3111666e+08 | J14: =J76 -> 1.4006641e+08 | K14: =K76 -> 1.4831071e+08
A15: =ROW() -> 15 | D15: ICT | G15: =G80 -> 38168116 | H15: =H80 -> 40962389 | I15: =I80 -> 45893700 | J15: =J80 -> 50768700 | K15: =K80 -> 62294450
A16: =ROW() -> 16 | D16: Asset Management & Operations | G16: =G84 -> 65398708 | H16: =H84 -> 72474796 | I16: =I84 -> 77986279 | J16: =J84 -> 87587487 | K16: =K84 -> 94079841
A17: =ROW() -> 17 | D17: Business Support | G17: =G86 -> 45441541 | H17: =H86 -> 55085948 | I17: =I86 -> 59628019 | J17: =J86 -> 63787820 | K17: =K86 -> 66450661
A18: =ROW() -> 18 | D18: Insurance | G18: =G88 -> 22154278 | H18: =H88 -> 26547467 | I18: =I88 -> 30086222 | J18: =J88 -> 32216913 | K18: =K88 -> 30995061
A19: =ROW() -> 19 | D19: Total operating expenditure * | G19: =SUM(G8:G18) -> 2.7897949e+08 | H19: =SUM(H8:H18) -> 3.2860222e+08 | I19: =SUM(I8:I18) -> 3.4471088e+08 | J19: =SUM(J8:J18) -> 3.7442733e+08 | K19: =SUM(K8:K18) -> 4.0213072e+08
A20: =ROW() -> 20
A21: =ROW() -> 21 | D21: Comprising:
A22: =ROW() -> 22 | D22: HVAC operating expenditure | G22: 2.4994801e+08 | H22: 2.9471167e+08 | I22: 3.0647732e+08 | J22: 3.3195446e+08 | M22: Not required from disclosure year 2026
A23: =ROW() -> 23 | D23: HVDC operating expenditure | G23: 29031438 | H23: 33858477 | I23: 38233567 | J23: 42467646 | M23: Not required from disclosure year 2026
A24: =ROW() -> 24 | D24: * Excluding the cost of capitalised operating leases (CY-1 $11.8 million, CY $12.7 million).
A25: =ROW() -> 25 | C25: F2(ii): Operating Expenditure (Actual Details)
A26: =ROW() -> 26 | G26: CY-4 | H26: CY-3 | I26: CY-2 | J26: CY-1 | K26: CY
A27: =ROW() -> 27 | G27: ($M) | H27: ($M) | I27: ($M) | J27: ($M) | K27: ($M)
A28: =ROW() -> 28 | D28: Grid | E28: Maintenance Projects - Transmission | F28: TL Tower | G28: 0 | H28: 0 | I28: 0 | J28: 0 | K28: 0 | N28: Old format - RT (explained to CC we will hide these rows)
A29: =ROW() -> 29 | D29: Grid | E29: Maintenance Projects - Transmission | F29: TL Conductor | G29: 0 | H29: 0 | I29: 0 | J29: 0 | K29: 0 | N29: Old format - RT (explained to CC we will hide these rows)
A30: =ROW() -> 30 | D30: Grid | E30: Maintenance Projects - Transmission | F30: TL Foundation | G30: 0 | H30: 0 | I30: 0 | J30: 0 | K30: 0 | N30: Old format - RT (explained to CC we will hide these rows)
A31: =ROW() -> 31 | D31: Grid | E31: Maintenance Projects - Transmission | F31: TL Insulators | G31: 0 | H31: 0 | I31: 0 | J31: 0 | K31: 0 | N31: Old format - RT (explained to CC we will hide these rows)
A32: =ROW() -> 32 | D32: Grid | E32: Maintenance Projects - Transmission | F32: TL Pole | G32: 0 | H32: 0 | I32: 0 | J32: 0 | K32: 0 | N32: Old format - RT (explained to CC we will hide these rows)
A33: =ROW() -> 33 | D33: Grid | E33: Maintenance Projects - Transmission | F33: TL Access | G33: 0 | H33: 0 | I33: 0 | J33: 0 | K33: 0 | N33: Old format - RT (explained to CC we will hide these rows)
A34: =ROW() -> 34 | D34: Grid | E34: Maintenance Projects - AC Stations | F34: ACS Buildings & Grounds | G34: 0 | H34: 0 | I34: 0 | J34: 0 | K34: 0 | N34: Old format - RT (explained to CC we will hide these rows)
A35: =ROW() -> 35 | D35: Grid | E35: Maintenance Projects - AC Stations | F35: ACS Power Transformers | G35: 0 | H35: 0 | I35: 0 | J35: 0 | K35: 0 | N35: Old format - RT (explained to CC we will hide these rows)
A36: =ROW() -> 36 | D36: Grid | E36: Maintenance Projects - AC Stations | F36: ACS Outdoor Circuit Breakers | G36: 0 | H36: 0 | I36: 0 | J36: 0 | K36: 0 | N36: Old format - RT (explained to CC we will hide these rows)
A37: =ROW() -> 37 | D37: Grid | E37: Maintenance Projects - AC Stations | F37: ACS Indoor Switchgear | G37: 0 | H37: 0 | I37: 0 | J37: 0 | K37: 0 | N37: Old format - RT (explained to CC we will hide these rows)
A38: =ROW() -> 38 | D38: Grid | E38: Maintenance Projects - HVDC Stations | F38: HVDC | G38: 0 | H38: 0 | I38: 0 | J38: 0 | K38: 0 | N38: Old format - RT (explained to CC we will hide these rows)
A39: =ROW() -> 39 | D39: Grid | E39: Maintenance Projects - Other | F39: MP Other | G39: 0 | H39: 0 | I39: 0 | J39: 0 | K39: 0 | N39: Old format - RT (explained to CC we will hide these rows)
A40: =ROW() -> 40 | D40: Total grid - maintenance projects | G40: =SUM(G28:G39) -> 0 | H40: =SUM(H28:H39) -> 0 | I40: =SUM(I28:I39) -> 0 | J40: =SUM(J28:J39) -> 0 | K40: =SUM(K28:K39) -> 0
...

Sheet F3. Base Capex
G1: Transpower | I1: Disclosure Date | K1: =+'F1. RAB'!$R$1 -> 46318
A2: SCHEDULE F3: BASE CAPITAL EXPENDITURE (BASE CAPEX): ACTUAL Spend | I2: Disclosure Year (year ended) | K2: =CoverSheet!$C$8 -> 46203
A3: Line items not required from disclosure year 2026 onward are specified in column M. Schedule F3 was reported as Commissioned Assets up until 2024. This schedule reports Capex values from 2025 onwards which is consistent with the 2024 Information Disclosure Review Final Decision on F4(ii)
A4: ref
A5: =ROW() -> 5 | C5: F3(i): Base Capex (Actual Commissioned Totals up to 2024 and 2025 Capex) | G5: Commissioned | H5: Commissioned | I5: Commissioned | J5: SPEND basis | K5: SPEND basis
A6: =ROW() -> 6 | G6: CY-4 | H6: CY-3 | I6: CY-2 | J6: CY-1 | K6: CY
A7: =ROW() -> 7 | G7: ($M) | H7: ($M) | I7: ($M) | J7: ($M) | K7: ($M)
A8: =ROW() -> 8 | D8: Grid - refurbishment and replacement | G8: =G53 -> 1.7602539e+08 | H8: =H53 -> 2.1082421e+08 | I8: =I53 -> 2.4183297e+08 | J8: =J53 -> 3.4893657e+08 | K8: =K53 -> 331348186
A9: =ROW() -> 9 | D9: Grid - enhancement and development | G9: =G114 -> 7115716 | H9: =H114 -> 21873281 | I9: =I114 -> 47076178 | J9: =J114 -> 47822321 | K9: =K114 -> 45795538
A10: =ROW() -> 10 | D10: IST | G10: =G132 -> 28253821 | H10: =H132 -> 21841731 | I10: =I132 -> 22392572 | J10: =J132 -> 47587019 | K10: =K132 -> 67198027
A11: =ROW() -> 11 | D11: Business support | G11: =G141 -> 17324445 | H11: =H141 -> 3860306.8 | I11: =I141 -> 9741593.5 | J11: =J141 -> 9582106 | K11: =K141 -> 6423577.3
A12: =ROW() -> 12 | D12: Total base capex commissioned/ Spend basis | G12: =SUM(G8:G11) -> 2.2871938e+08 | H12: =SUM(H8:H11) -> 2.5839952e+08 | I12: =SUM(I8:I11) -> 3.2104331e+08 | J12: =SUM(J8:J11) -> 4.5392802e+08 | K12: =SUM(K8:K11) -> 4.5076533e+08
A13: =ROW() -> 13
A14: =ROW() -> 14 | D14: Comprising:
A15: =ROW() -> 15 | D15: HVAC base capex commissioned / Spend basis | G15: 2.2173891e+08 | H15: 2.4508545e+08 | I15: 295000000 | J15: 4.073107e+08 | N15: Not required from disclosure year 2026
A16: =ROW() -> 16 | D16: HVDC base capex commissioned / Spend basis | G16: 6980461.9 | H16: 13314078 | I16: 26080469 | J16: 46617322 | N16: Not required from disclosure year 2026
A17: =ROW() -> 17
A18: =ROW() -> 18 | C18: F3(ii): Base Capex (Actual Commissioned Totals up to 2024 and 2025 Capex) | G18: Commissioned | H18: Commissioned | I18: Commissioned | J18: =J5 -> SPEND basis | K18: SPEND basis
A19: =ROW() -> 19 | G19: CY-4 | H19: CY-3 | I19: CY-2 | J19: CY-1 | K19: CY
A20: =ROW() -> 20 | G20: ($M) | H20: ($M) | I20: ($M) | J20: ($M) | K20: ($M)
A21: =ROW() -> 21 | D21: Grid refurbishment and replacement | E21: AC Stations | F21: ACS Power Transformers | G21: 10568565 | H21: 25083339 | I21: 6854812 | J21: 33191462 | K21: 18412478
A22: =ROW() -> 22 | D22: Grid refurbishment and replacement | E22: AC Stations | F22: ACS Outdoor to Indoor Conv | G22: 33445865 | H22: 4386357 | I22: 3014162 | J22: 1795688 | K22: 4294966
A23: =ROW() -> 23 | D23: Grid refurbishment and replacement | E23: AC Stations | F23: ACS Buildings & Grounds-Seismic | G23: 0 | H23: 0 | I23: 0 | J23: 0 | K23: 0
A24: =ROW() -> 24 | D24: Grid refurbishment and replacement | E24: AC Stations | F24: ACS Buildings & Grounds | G24: 5125842.6 | H24: 9860131.4 | I24: 14096916 | J24: 48463913 | K24: 17063017
A25: =ROW() -> 25 | D25: Grid refurbishment and replacement | E25: AC Stations | F25: ACS Outdoor Circuit Breakers | G25: 1257850 | H25: 469458 | I25: 203297 | J25: 1440364 | K25: 2432701
A26: =ROW() -> 26 | D26: Grid refurbishment and replacement | E26: AC Stations | F26: ACS Indoor Switchgear | G26: 7932259 | H26: 11571151 | I26: 6945099 | J26: 16513010 | K26: 7063731
A27: =ROW() -> 27 | D27: Grid refurbishment and replacement | E27: AC Stations | F27: ACS Capacitors and Reactors | G27: 0 | H27: 3555159 | I27: 757795 | J27: 718668 | K27: 272428
A28: =ROW() -> 28 | D28: Grid refurbishment and replacement | E28: AC Stations | F28: ACS Structures & Buswork | G28: 13476 | H28: 192990 | I28: 219566 | J28: 4031968 | K28: 2594234
A29: =ROW() -> 29 | D29: Grid refurbishment and replacement | E29: AC Stations | F29: ACS Instrument Transformers | G29: 2948897 | H29: 1888745 | I29: 1852274 | J29: 2904788 | K29: 7466464
A30: =ROW() -> 30 | D30: Grid refurbishment and replacement | E30: AC Stations | F30: ACS Disconnectors & E/S | G30: 926142 | H30: 3497 | I30: 0 | J30: 2558001 | K30: 4053061
A31: =ROW() -> 31 | D31: Grid refurbishment and replacement | E31: AC Stations | F31: ACS Other Station Equipment | G31: 799253 | H31: 14238209 | I31: 8882619 | J31: 6254533 | K31: 14283036
A32: =ROW() -> 32 | D32: Grid refurbishment and replacement | E32: AC Stations | F32: ACS Power Cables | G32: 12209 | H32: 5890693 | I32: 4109811 | J32: 30671176 | K32: 31000435
... A41: =ROW() -> 41 | D41: Grid refurbishment and replacement | E41: Protection and Metering | F41: SA Special Protection Schemes | G41: -21742 | H41: 634976 | I41: 841541 | J41: 700396 | K41: 403386
C42: New | D42: Grid refurbishment and replacement | E42: Protection and Metering | F42: SA ODJB | K42: 2271262
C43: New | D43: Grid refurbishment and replacement | E43: Protection and Metering | F43: SA Reactive Asset Protection | K43: 1008691
A44: =ROW() -> 44 | D44: Grid refurbishment and replacement | E44: HVDC Stations | F44: HVDC | G44: 2259803 | H44: 8151077 | I44: 21453047 | J44: 24601589 | K44: 24415933
A45: =ROW() -> 45 | D45: Grid refurbishment and replacement | E45: Transmission Lines | F45: TL Paint | G45: 38879163 | H45: 43566111 | I45: 56277714 | J45: 55702469 | K45: 64683855
A46: =ROW() -> 46 | D46: Grid refurbishment and replacement | E46: Transmission Lines | F46: TL Tower | G46: 15329 | H46: 4050412 | I46: 9248928 | J46: 16813227 | K46: 12215756
A47: =ROW() -> 47 | D47: Grid refurbishment and replacement | E47: Transmission Lines | F47: TL Foundation | G47: 4282499 | H47: 3526657 | I47: 7191313 | J47: 17639445 | K47: 12066346
A48: =ROW() -> 48 | D48: Grid refurbishment and replacement | E48: Transmission Lines | F48: TL Grillage | G48: 6815811 | H48: 5693106 | I48: 10688687 | J48: 9074071 | K48: 9111820
...

Sheet F4. Actuals vs Forecasts
I1: Transpower | K1: Disclosure Date | M1: =+'F1. RAB'!$R$1 -> 46318
A2: SCHEDULE F4: COMPARISON OF FORECASTS FOR OPEX AND BASE CAPEX | K2: Disclosure Year (year ended) | M2: =CoverSheet!$C$8 -> 46203
A3: Disclosure of line items required from disclosure year 2026 onward are specified in column O.
A4: ref
A5: =ROW() -> 5
A6: =ROW() -> 6 | C6: F4(i): Opex
A7: =ROW() -> 7 | F7: CY | G7: CY | H7: CY
A8: =ROW() -> 8 | F8: Actual | G8: Forecast* | H8: Variance
A9: =ROW() -> 9 | F9: ($M) | G9: ($M) | H9: %
A10: =ROW() -> 10 | D10: Grid maintenance | F10: =+'F2.Opex'!K14 -> 1.4831071e+08 | G10: 1.5457993e+08 | H10: =IF(F10=0,0,(F10-G10)/G10) -> -0.040556528
A11: =ROW() -> 11 | D11: ICT | F11: =+'F2.Opex'!K15 -> 62294450 | G11: 63606823 | H11: =IF(F11=0,0,(F11-G11)/G11) -> -0.020632582
A12: =ROW() -> 12 | D12: Asset Management & Operations | F12: =+'F2.Opex'!K16 -> 94079841 | G12: 1.0157929e+08 | H12: =IF(F12=0,0,(F12-G12)/G12) -> -0.073828501
A13: =ROW() -> 13 | D13: Business Support | F13: =+'F2.Opex'!K17 -> 66450661 | G13: 69655804 | H13: =IF(F13=0,0,(F13-G13)/G13) -> -0.046014016
A14: =ROW() -> 14 | D14: Insurance | F14: =+'F2.Opex'!K18 -> 30995061 | G14: 36777978 | H14: =IF(F14=0,0,(F14-G14)/G14) -> -0.15723859 | I14: Note 1
A15: =ROW() -> 15 | D15: Total operating expenditure | F15: =+'F2.Opex'!K19 -> 4.0213072e+08 | G15: 4.2619983e+08 | H15: =IF(F15=0,0,(F15-G15)/G15) -> -0.056473758
A16: =ROW() -> 16
A17: =ROW() -> 17 | D17: Leases expenditure | F17: 12728786 | G17: 11454702 | H17: =IF(F17=0,0,(F17-G17)/G17) -> 0.11122802 | J17: Note this has been added as a seperate category as we are now reporting capex on spend basis (not commissioned which included lease additions).
A18: =ROW() -> 18
A19: =ROW() -> 19 | C19: F4(ii): Base Capex | F19: SPEND BASIS | G19: SPEND BASIS
A20: =ROW() -> 20 | F20: CY | G20: CY | H20: CY
A21: =ROW() -> 21 | F21: Actual | G21: Forecast* | H21: Variance
A22: =ROW() -> 22 | F22: ($M) | G22: ($M) | H22: %
A23: =ROW() -> 23 | D23: Grid - replacement and refurbishment | F23: ='F3. Base Capex'!K8 -> 331348186 | G23: 3.7756296e+08 | H23: =IF(F23=0,0,(F23-G23)/G23) -> -0.12240282 | I23: Note 4
A24: =ROW() -> 24 | D24: Grid - enhancement and development - ACA capacity | F24: 0 | G24: 0 | H24: =IF(F24=0,0,(F24-G24)/G24) -> 0 | O24: Required from disclosure year 2026
A25: =ROW() -> 25 | D25: Grid - enhancement and development - other | F25: ='F3. Base Capex'!K9-F24 -> 45795538 | G25: 46033382 | H25: =IF(F25=0,0,(F25-G25)/G25) -> -0.0051667761 | O25: Required from disclosure year 2026
A26: =ROW() -> 26 | D26: IST | F26: ='F3. Base Capex'!K10 -> 67198027 | G26: 60038938 | H26: =IF(F26=0,0,(F26-G26)/G26) -> 0.11924076 | I26: Note 5
A27: =ROW() -> 27 | D27: Business support | F27: ='F3. Base Capex'!K11 -> 6423577.3 | G27: 8294518.8 | H27: =IF(F27=0,0,(F27-G27)/G27) -> -0.22556359 | I27: Note 6
A28: =ROW() -> 28 | D28: Total base capex expenditure | F28: ='F3. Base Capex'!K12 -> 4.5076533e+08 | G28: =SUM(G23:G27) -> 4.9192979e+08 | H28: =IF(F28=0,0,(F28-G28)/G28) -> -0.083679555
A29: =ROW() -> 29 | F29: *Prior year disclosure of CY forecast nominal value
A30: =ROW() -> 30
A31: =ROW() -> 31
A32: =ROW() -> 32
A33: =ROW() -> 33 | C33: F4(iii): Opex comparison by expenditure categories
A34: =ROW() -> 34 | F34: CY | G34: CY | H34: CY
A35: =ROW() -> 35 | F35: Actual | G35: Forecast in RCP Proposal | H35: Variance
A36: =ROW() -> 36 | F36: ($M) | G36: ($M) | H36: %
A37: =ROW() -> 37 | D37: Preventive Maintenance | F37: ='F2.Opex'!K71 -> 52017004 | G37: 51246989 | H37: 0.015025568 | O37: Required from disclosure year 2026
A38: =ROW() -> 38 | D38: Predictive Maintenance | F38: ='F2.Opex'!K72 -> 86120024 | G38: 95286269 | H38: -0.096196913 | O38: Required from disclosure year 2026
A39: =ROW() -> 39 | D39: Corrective Maintenance | F39: ='F2.Opex'!K73 -> 7077966.5 | G39: 5344139.1 | H39: 0.3244353 | O39: Required from disclosure year 2026
A40: =ROW() -> 40 | D40: Proactive Maintenance | F40: ='F2.Opex'!K74 -> 859207.72 | G40: 1199320.3 | H40: -0.28358776 | O40: Required from disclosure year 2026
...

Sheet F5. Major Capex Projects
Q1: Transpower | S1: Disclosure Date | U1: =+'F1. RAB'!$R$1 -> 46318
A2: SCHEDULE F5: MAJOR CAPITAL EXPENDITURE (MAJOR CAPEX) | S2: Disclosure Year (year ended) | U2: =CoverSheet!$C$8 -> 46203
A4: ref
A5: =ROW() -> 5 | C5: F5(i): Major Capex Projects (Summary): Approved But Not Yet Commissioned
A6: =ROW() -> 6
A7: =ROW() -> 7 | F7: Initial Project Approvals | O7: Amendments to Approved Projects
A8: =ROW() -> 8 | F8: Approved MCP Outputs | G8: Major Capex Allowance | H8: Max. Recoverable costs | I8: Recovery Scheme | K8: Commissioning Date(s) | L8: P50 | M8: Approval Expiry Date | N8: Completion date Assumption | O8: Major Capex Allowance | P8: Max. Recoverable costs | Q8: Recovery Scheme | R8: P50 | S8: Approval Expiry Date | T8: Completion Date Assumption | U8: Approved MCP Outputs
A9: =ROW() -> 9 | E9: Project Name | G9: ($M) | H9: ($M) | L9: ($M) | O9: ($M) | P9: ($M) | R9: ($M)
A10: =ROW() -> 10 | E10: Stage 1 - Waikato and Upper North Island Voltage Management | F10: 1) one dynamic reactive device in the Upper North Island capable of delivering (within 10%) 150 Mvar capacitive to 150 Mvar inductive at nominal voltage 2) one dynamic reactive device in the Waikato capable of delivering (within 10%) 150 Mvar capacitive to 150 Mvar inductive at nominal voltage 3) a post-fault demand management scheme for the Waikato Upper North Island region 4) preparatory works for Stage 2, including additional investigation, consultation, obtaining property rights and environmental approvals, design work and non-binding tendering for future series capacitors and installation works on the Brownhill_x0002_Whakamaru 1&2 transmission lines (BHL-WKM lines) | G10: 143000000 | H10: n/a | I10: Capex | K10: Dec 2022 (except for Stage 2 preparatory works) | L10: =G10 -> 143000000 | M10: 47453 | N10: Dec 2022 (except for Stage 2 preparatory works)
A11: =ROW() -> 11 | E11: Net Zero Grid Pathways stage 1 | F11: HVDC upgrade – increasing transfer capacity from 1071 MW to closer to 1200 MW by installing: 1) reactive plant; 2) filter banks; and 3) associated equipment to upgrade the HVDC. Central North Island upgrade - increasing transfer capacity north from Bunnythorpe by between 60% and 90% by: 1)installing variable line rating and tactical thermal upgrade of the Tokaanu-Whakamaru and the Bunnythorpe-Tokaanu circuits; 2) duplexing the Tokaanu-Whakamaru circuits with Goat conductor; 3) splitting the Bunnythorpe-Ongarue circuit; 4) upgrading protection on the Huntly-Stratford circuit; and 5) replacing special protection scheme at Tokaanu. Wairakei ring upgrade - increasing transmission capacity by 25% (300 MW) under typical operating conditions by: 1) tactical thermal upgrade of both circuits of the Wairakei_x0002_Whakamaru C line; 2) a tactical thermal upgrade of the Edgecumbe-Kawerau 3 circuit on the Ohakuri-Edgecumbe A and Kawerau-Deviation lines; and 3) splitting the Edgecumbe-Kawerau circuit. NZGP1 stage two preparatory work to: - carry out a detailed design of duplex Bunnythorpe-Tokaanu A and B lines; - carry out a detailed design for tactical thermal upgrade of Bunnythorpe-Wairakei A line; - investigate options for reconductoring one of the two 200 kV Brunswick-Stratford lines; - develop quantifying resilience methodology; - carry out a study on diversification of Bunnythorpe substation; - carry out a study on lower North Island voltage stability; and - carry out a study on lower North Island system stability. | G11: 392900000 | H11: n/a | I11: Capex | K11: Various | L11: =G11 -> 392900000 | M11: 49674 | N11: 46934 | O11: 0 | P11: 0
A12: =ROW() -> 12 | E12: Western Bay of Plenty | F12: $83.2m for the enhancement of the WBOP transmission grid, namely: Western corridor - Kaitemako: - install a new 220kV/110kV interconnecting transformer at Kaitemako; Western corridor - Reconductoring: - reconductor the interconnection section of the Kaitemako-Tauranga 110kV line to a rating of 200MVA; Eastern corridor - reconductor the Okere-Te Matai, Okere-Tarukenga, and Kaitemako-Te Matai 110kV lines to a rating of 195 MVA; and Potential non-transmission solution (NTS) - $2.9m to fund NTS. Refer to Final Decision WBOP MCP 11 June 2025 "treat the capital cost contingency risk component of the MCA, and the development NTS recoverable cost component, as exempt major capex, equal to $12.5 million ($ nominal)" | G12: =86100000 -> 86100000 | H12: n/a | I12: Capex | K12: Various | L12: =G12 -> 86100000 | M12: 50405 | N12: 48579
A13: =ROW() -> 13 | E13: Redclyffe 220kV Switchyard Resilience | F13: - Raising the height of critical HV plant - Installing new 220 kV electrical equipment including circuit breakers, disconnectors, busbars rigid and strung, current transformers (CTs), capacitive voltage transformers (CVTs) and outdoor junction boxes. - Building a digital substation control building | G13: 47000000 | H13: n/a | I13: Capex | K13: 46722 | L13: =G13 -> 47000000 | M13: 48579 | N13: 46722
A14: =ROW() -> 14 | E14: HVDC Link Upgrade Programme Stage 1 | F14: - procure, install, and commission four new HVDC submarine cables, increasing the HVDC link’s transfer capacity north from 1200 MW to around 1400 MW; - construct and commission new cable termination stations and associated equipment located at Oteranga Bay (North Island) and Ōraumoa Fighting Bay (South Island), along with necessary modifications to the existing overhead line connections; - procure, construct, and commission an additional filter bank at Benmore substation to facilitate continuous operation at the increased capacity of around 1400 MW; - works to increase the Pole 2 overload capacity at Haywards and Benmore; - construct and commission a new submarine cable storage facility and associated infrastructure and equipment to house spare cable lengths for future maintenance and repairs; and - preparatory work for a potential Stage 2, including early engagement with vendors and suppliers to refine scope and confirm cost estimates for anticipated future stage projects. | G14: 1138600000 | H14: n/a | I14: Capex | K14: 48183 | L14: =G14 -> 1138600000 | M14: 50040 | N14: =K14 -> 48183
A15: =ROW() -> 15 | E15: [insert project]
A16: =ROW() -> 16 | E16: [insert project]
A17: =ROW() -> 17
A18: =ROW() -> 18 | C18: F5(ii): Major Capex Projects (Detail): Approved But Not Yet Commissioned*
A19: =ROW() -> 19 | D19: *Insert additional tables as required for projects
A20: =ROW() -> 20 | G20: CY-4 + previous | H20: CY-3 | I20: CY-2 | J20: CY-1 | K20: CY | L20: CY+1 | M20: CY+2 | N20: CY+3 | O20: CY+4 | P20: CY+5 | Q20: CY+6 | R20: CY+7 | S20: CY+8 | T20: Total
A21: =ROW() -> 21 | G21: ($M) | H21: ($M) | I21: ($M) | J21: ($M) | K21: ($M) | L21: ($M) | M21: ($M) | N21: ($M) | O21: ($M) | P21: ($M) | Q21: ($M) | R21: ($M) | S21: ($M) | T21: ($M)
A22: =ROW() -> 22 | D22: Project name | E22: Stage 1 - Waikato and Upper North Island Voltage Management | F22: Forecast Expenditure | G22: 1.2013944e+08 | H22: 22892086 | I22: 95919.482 | J22: 0 | K22: 0 | T22: =SUM(G22:S22) -> 1.4312745e+08
A23: =ROW() -> 23 | F23: Actual Expenditure | G23: 29044549 | H23: 16658094 | I23: 25468587 | J23: 25253307 | K23: 7660072 | T23: =SUM(G23:S23) -> 104084609
A24: =ROW() -> 24 | F24: Variance | G24: =G22-G23 -> 91094890 | H24: =H22-H23 -> 6233992.3 | I24: =I22-I23 -> -25372668 | J24: =J22-J23 -> -25253307 | K24: =K22-K23 -> -7660072 | L24: =L22-L23 -> 0 | M24: =M22-M23 -> 0 | N24: =N22-N23 -> 0 | ... T24: =T22-T23 -> 39042836
A25: =ROW() -> 25
A26: =ROW() -> 26 | G26: CY-4 + previous | H26: CY-3 | I26: CY-2 | J26: CY-1 | K26: CY | L26: CY+1 | M26: CY+2 | N26: CY+3 | O26: CY+4 | P26: CY+5 | Q26: CY+6 | R26: CY+7 | S26: CY+8 | T26: Total
A27: =ROW() -> 27 | G27: ($M) | H27: ($M) | I27: ($M) | J27: ($M) | K27: ($M) | L27: ($M) | M27: ($M) | N27: ($M) | O27: ($M) | P27: ($M) | Q27: ($M) | R27: ($M) | S27: ($M) | T27: ($M)
A28: =ROW() -> 28 | D28: Project name | E28: =E11 -> Net Zero Grid Pathways stage 1 | F28: Forecast Expenditure | G28: 11550 | H28: 1663743 | I28: 11558970 | J28: 30586642 | K28: 62336009 | L28: 74376298 | M28: 81114742 | N28: 109771515 | O28: 21480531 | P28: 0 | Q28: 0 | T28: =SUM(G28:S28) -> 392900000
A29: =ROW() -> 29 | F29: Actual Expenditure | G29: 0 | H29: 0 | I29: 11563060 | J29: 28769904 | K29: 68737726 | T29: =SUM(G29:S29) -> 109070690
A30: =ROW() -> 30 | F30: Variance | G30: =G28-G29 -> 11550 | H30: =H28-H29 -> 1663743 | I30: =I28-I29 -> -4090 | J30: =J28-J29 -> 1816738 | K30: =K28-K29 -> -6401717 | L30: =L28-L29 -> 74376298 | M30: =M28-M29 -> 81114742 | N30: =N28-N29 -> 109771515 | ... T30: =T28-T29 -> 283829310
A31: =ROW() -> 31
A32: =ROW() -> 32 | G32: CY-4 + previous | H32: CY-3 | I32: CY-2 | J32: CY-1 | K32: CY | L32: CY+1 | M32: CY+2 | N32: CY+3 | O32: CY+4 | P32: CY+5 | Q32: CY+6 | R32: CY+7 | S32: CY+8 | T32: Total
A33: =ROW() -> 33 | G33: ($M) | H33: ($M) | I33: ($M) | J33: ($M) | K33: ($M) | L33: ($M) | M33: ($M) | N33: ($M) | O33: ($M) | P33: ($M) | Q33: ($M) | R33: ($M) | S33: ($M) | T33: ($M)
A34: =ROW() -> 34 | D34: Project name | E34: Western Bay of Plenty - (Excluding approved NTS recoverable cost of $2.9m) | F34: Forecast Expenditure | J34: 315000 | K34: 315000 | L34: 3943000 | M34: 10489000 | N34: 12616000 | O34: 22669000 | P34: 21683000 | Q34: 9787000 | R34: 1662000 | T34: =SUM(G34:S34) -> 83479000
A35: =ROW() -> 35 | F35: Actual Expenditure | J35: 1538687 | K35: 1449169 | T35: =SUM(G35:S35) -> 2987856
A36: =ROW() -> 36 | F36: Variance | G36: =G34-G35 -> 0 | H36: =H34-H35 -> 0 | I36: =I34-I35 -> 0 | J36: =J34-J35 -> -1223687 | K36: =K34-K35 -> -1134169 | L36: =L34-L35 -> 3943000 | M36: =M34-M35 -> 10489000 | N36: =N34-N35 -> 12616000 | ... T36: =T34-T35 -> 80491144
A37: =ROW() -> 37
A38: =ROW() -> 38 | G38: CY-4 + previous | H38: CY-3 | I38: CY-2 | J38: CY-1 | K38: CY | L38: CY+1 | M38: CY+2 | N38: CY+3 | O38: CY+4 | P38: CY+5 | Q38: CY+6 | R38: CY+7 | S38: CY+8 | T38: Total
A39: =ROW() -> 39 | G39: ($M) | H39: ($M) | I39: ($M) | J39: ($M) | K39: ($M) | L39: ($M) | M39: ($M) | N39: ($M) | O39: ($M) | P39: ($M) | Q39: ($M) | R39: ($M) | S39: ($M) | T39: ($M)
A40: =ROW() -> 40 | G40: CY-4 + previous | H40: CY-3 | I40: CY-2 | J40: CY-1 | K40: CY | L40: CY+1 | M40: CY+2 | N40: CY+3 | O40: CY+4 | P40: CY+5 | Q40: CY+6 | R40: CY+7 | S40: CY+8 | T40: Total
A41: =ROW() -> 41 | G41: ($M) | H41: ($M) | I41: ($M) | J41: ($M) | K41: ($M) | L41: ($M) | M41: ($M) | N41: ($M) | O41: ($M) | P41: ($M) | Q41: ($M) | R41: ($M) | S41: ($M) | T41: ($M)
...

Sheet F6. Revenues
J1: Transpower | L1: Disclosure Date | N1: =+'F1. RAB'!$R$1 -> 46318
A2: SCHEDULE F6: REGULATED REVENUE | L2: Disclosure Year (year ended) | N2: =CoverSheet!$C$8 -> 46203
A3: Regulated revenue is received in Pricing Years, ending on 31 March each year. For example, the pricing year corresponding to the 30 June 2024 disclosure year is the pricing year ended 31 March 2024. All revenue numbers here are stated in pricing years, except where indicated.
A4: ref
A5: =ROW() -> 5 | C5: F6(i): Regulated Electricity Transmission Revenue
A6: =ROW() -> 6 | G6: CY-4 | H6: CY-3 | I6: CY-2 | J6: CY-1 | K6: CY
A7: =ROW() -> 7 | G7: ($M) | H7: ($M) | I7: ($M) | J7: ($M) | K7: ($M)
A8: =ROW() -> 8 | E8: HVAC - Interconnection (excl. EV) | G8: 6.0481479e+08 | H8: 6.1354672e+08 | AD8: Not required from disclosure year 2029
A9: =ROW() -> 9 | E9: HVAC - NEA and PDA income | G9: 2555722.3 | H9: 2555722 | AD9: Not required from disclosure year 2029
A10: =ROW() -> 10 | E10: HVAC - Connection (excl.EV) | G10: 1.1283413e+08 | H10: 1.2357062e+08 | AD10: Not required from disclosure year 2029
A11: =ROW() -> 11 | E11: HVAC - EV adjustment | G11: -21429213 | H11: -24219180 | AD11: Not required from disclosure year 2029
A12: =ROW() -> 12 | E12: HVDC - NEA and PDA income | G12: 491017.69 | H12: 491017.69
A13: =ROW() -> 13 | E13: HVDC (excl. EV) | G13: 93503907 | H13: 92684584 | AD13: Not required from disclosure year 2029
A14: =ROW() -> 14 | E14: HVDC - EV adjustment | G14: -1413568.8 | H14: -632608.96 | AD14: Not required from disclosure year 2029
A15: =ROW() -> 15 | E15: Connection charge | I15: 1.1734773e+08 | J15: 1.2557932e+08 | K15: =J328 -> 1.5077032e+08
A16: =ROW() -> 16 | E16: Benefits-based charge | I16: 2.561926e+08 | J16: 2.6672116e+08 | K16: =L328 -> 3.0457983e+08
A17: =ROW() -> 17 | E17: Residual charge | I17: 4.682242e+08 | J17: 4.7656659e+08 | K17: =N328 -> 4.7495006e+08
A18: =ROW() -> 18 | E18: Transitional cap (charge) | I18: 1420055 | J18: -625.18 | K18: =+J33 -> -1468.56
A19: =ROW() -> 19 | E19: EV Adjustment | I19: -24668817 | J19: -24932460 | K19: =+M33 -> 44696844
A20: =ROW() -> 20 | E20: Other regulated transmission revenue | G20: 9752516 | H20: 22133255 | I20: 8590990 | J20: 10951283 | K20: 6799314
A21: =ROW() -> 21 | E21: Total regulated electricity transmission revenue | G21: =SUM(G8:G20) -> 8.011093e+08 | H21: =SUM(H8:H20) -> 8.3013013e+08 | I21: =SUM(I8:I20) -> 8.2710675e+08 | J21: =SUM(J8:J20) -> 8.5488526e+08 | K21: =SUM(K8:K20) -> 9.8179489e+08
A22: =ROW() -> 22
A23: =ROW() -> 23
A24: =ROW() -> 24 | C24: F6(ii): Regulated Revenue
A25: =ROW() -> 25
A26: =ROW() -> 26
A27: =ROW() -> 27 | D27: Total Revenue (CY)
A28: =ROW() -> 28 | G28: Connection charge ($M) | H28: Benefits-based charge ($M) | I28: Residual charge ($M) | J28: Transitional cap (charge) ($M) | K28: Other regulated transmission revenue ($M) | L28: Total Revenue ($M) | M28: EV adjustment ($M) | N28: TOTAL ($M) | O28: Offtake quantities (MWH) | P28: Injection quantities (MWH)
A29: =ROW() -> 29 | F29: Distributor | G29: 10322414 | H29: 20018364 | I29: 57401886 | J29: -371400.12 | L29: =SUM(G29:K29) -> 87371264 | M29: 0 | N29: =+M29+L29 -> 87371264 | O29: 31528961 | P29: 1466837.8
A30: =ROW() -> 30 | F30: Direct Connect | G30: 99967310 | H30: 1.6955467e+08 | I30: 4.5529264e+08 | J30: 320708.28 | L30: =SUM(G30:K30) -> 7.2513532e+08 | M30: 0 | N30: =+M30+L30 -> 7.2513532e+08 | O30: 6444333 | P30: 283090.4
A31: =ROW() -> 31 | F31: Generator | G31: 40480592 | H31: 1.150068e+08 | I31: 6952377.7 | J31: 49223.28 | L31: =SUM(G31:K31) -> 1.6248899e+08 | M31: 0 | N31: =+M31+L31 -> 1.6248899e+08 | O31: 103493.5 | P31: 37797605
A32: =ROW() -> 32 | F32: Other | I32: =+N326 -> -44696844 | K32: =+K20 -> 6799314 | L32: =SUM(G32:K32) -> -37897530 | M32: 44696844 | N32: =+M32+L32 -> 6799314
A33: =ROW() -> 33 | F33: Grand Total | G33: =SUM(G29:G32) -> 1.5077032e+08 | H33: =SUM(H29:H32) -> 3.0457983e+08 | I33: =SUM(I29:I32) -> 4.7495006e+08 | J33: =SUM(J29:J32) -> -1468.56 | K33: =SUM(K29:K32) -> 6799314 | L33: =SUM(L29:L32) -> 9.3709804e+08 | M33: =SUM(M29:M32) -> 44696844 | N33: =SUM(N29:N32) -> 9.8179489e+08 | ... P33: =SUM(P29:P32) -> 39547533
A34: =ROW() -> 34
A35: =ROW() -> 35
A36: =ROW() -> 36
A37: =ROW() -> 37
A38: =ROW() -> 38 | C38: F6(iii): Customer Charges
A39: =ROW() -> 39 | E39: The customer charges shown must include all charges irrespective of the form of the contract
A40: =ROW() -> 40 | J40: Current Year Charges (CY) | S40: Current Year +1 (CY+1) Charges
...

Sheet F7. Cost Allocation
A1: SCHEDULE 7: Cost allocation
A3: 7(i): Operating Cost Allocations
A4: Section | B4: Row | C4: Category1 | D4: Category2 | E4: Arm's length deduction|Value allocated ($M) | F4: Transmission lines services|Value allocated ($M) | G4: Other services (includes unregulated services, system operator and investment contracts)|Value allocated ($M) | H4: Total|Value allocated ($M) | I4: ABAA allocation increase|Value allocated ($M)
A5: 7(i): Operating Cost Allocations | B5: =ROW() -> 5 | C5: Grid maintenance | D5: Directly attributable | F5: 1.4831071e+08
A6: 7(i): Operating Cost Allocations | B6: =ROW() -> 6 | C6: Grid maintenance | D6: Not directly attributable | H6: 0
A7: 7(i): Operating Cost Allocations | B7: =ROW() -> 7 | C7: Total attributable to regulated service | F7: 1.4831071e+08
A8: 7(i): Operating Cost Allocations | B8: =ROW() -> 8 | C8: ICT | D8: Directly attributable | F8: 37804207
A9: 7(i): Operating Cost Allocations | B9: =ROW() -> 9 | C9: ICT | D9: Not directly attributable | E9: 44796.221 | F9: 24490243 | G9: 4183569.5 | H9: 28718608 | I9: -63335.553
A10: 7(i): Operating Cost Allocations | B10: =ROW() -> 10 | C10: Total attributable to regulated service | F10: 62294450
A11: 7(i): Operating Cost Allocations | B11: =ROW() -> 11 | C11: Asset Management & Operations | D11: Directly attributable | F11: 94079841
A12: 7(i): Operating Cost Allocations | B12: =ROW() -> 12 | C12: Asset Management & Operations | D12: Not directly attributable | F12: 0 | H12: 0
A13: 7(i): Operating Cost Allocations | B13: =ROW() -> 13 | C13: Total attributable to regulated service | F13: 94079841
A14: 7(i): Operating Cost Allocations | B14: =ROW() -> 14 | C14: Business support | D14: Directly attributable | F14: 44906414
A15: 7(i): Operating Cost Allocations | B15: =ROW() -> 15 | C15: Business support | D15: Not directly attributable | E15: 73809.045 | F15: 21544247 | G15: 1545916.6 | H15: 23163972 | I15: -75174.874
A16: 7(i): Operating Cost Allocations | B16: =ROW() -> 16 | C16: Total attributable to regulated service | F16: 66450661
A17: 7(i): Operating Cost Allocations | B17: =ROW() -> 17 | C17: Insurance | D17: Directly attributable | F17: 30995061
A18: 7(i): Operating Cost Allocations | B18: =ROW() -> 18 | C18: Insurance | D18: Not directly attributable | F18: 0 | H18: 0
A19: 7(i): Operating Cost Allocations | B19: =ROW() -> 19 | C19: Total attributable to regulated service | F19: 30995061
A20: 7(i): Operating Cost Allocations | B20: =ROW() -> 20 | C20: Operating costs directly attributable | F20: 3.5609623e+08
A21: 7(i): Operating Cost Allocations | B21: =ROW() -> 21 | C21: Operating costs not directly attributable | E21: 118605.27 | F21: 46034489 | G21: 5729486.1 | H21: 51882581 | I21: -138510.43
A22: 7(i): Operating Cost Allocations | B22: =ROW() -> 22 | C22: Operating expenditure | F22: 4.0213072e+08
A25: a

Sheet F7a. Asset Allocation
A1: SCHEDULE 7a: Asset allocation
A3: 7a(i): Regulated Service Asset Allocations
A4: Section | B4: Row | C4: Category1 | D4: Category2 | E4: Transmission lines services|Value allocated ($M)
A5: 7a(i): Regulated Service Asset Allocations | B5: =ROW() -> 5 | C5: HVAC Substations | D5: Directly attributable | E5: ='F1. RAB'!I66 -> 2009200000
A6: 7a(i): Regulated Service Asset Allocations | B6: =ROW() -> 6 | C6: HVAC Substations | D6: Not directly attributable | E6: 0
A7: 7a(i): Regulated Service Asset Allocations | B7: =ROW() -> 7 | C7: Total attributable to regulated service | E7: =SUM(E5:E6) -> 2009200000
A8: 7a(i): Regulated Service Asset Allocations | B8: =ROW() -> 8 | C8: HVAC Lines and Transmission cables | D8: Directly attributable | E8: ='F1. RAB'!J66 -> 2325300000
A9: 7a(i): Regulated Service Asset Allocations | B9: =ROW() -> 9 | C9: HVAC Lines and Transmission cables | D9: Not directly attributable | E9: 0
A10: 7a(i): Regulated Service Asset Allocations | B10: =ROW() -> 10 | C10: Total attributable to regulated service | E10: =SUM(E8:E9) -> 2325300000
A11: 7a(i): Regulated Service Asset Allocations | B11: =ROW() -> 11 | C11: HVDC Substations and Submarine cables | D11: Directly attributable | E11: ='F1. RAB'!K66 -> 422700000
A12: 7a(i): Regulated Service Asset Allocations | B12: =ROW() -> 12 | C12: HVDC Substations and Submarine cables | D12: Not directly attributable | E12: 0
A13: 7a(i): Regulated Service Asset Allocations | B13: =ROW() -> 13 | C13: Total attributable to regulated service | E13: =SUM(E11:E12) -> 422700000
A14: 7a(i): Regulated Service Asset Allocations | B14: =ROW() -> 14 | C14: HVDC Lines | D14: Directly attributable | E14: ='F1. RAB'!L66 -> 100600000
A15: 7a(i): Regulated Service Asset Allocations | B15: =ROW() -> 15 | C15: HVDC Lines | D15: Not directly attributable | E15: 0
A16: 7a(i): Regulated Service Asset Allocations | B16: =ROW() -> 16 | C16: Total attributable to regulated service | E16: =SUM(E14:E15) -> 100600000
A17: 7a(i): Regulated Service Asset Allocations | B17: =ROW() -> 17 | C17: Easements | D17: Directly attributable | E17: ='F1. RAB'!M66 -> 319700000
A18: 7a(i): Regulated Service Asset Allocations | B18: =ROW() -> 18 | C18: Easements | D18: Not directly attributable | E18: 0
A19: 7a(i): Regulated Service Asset Allocations | B19: =ROW() -> 19 | C19: Total attributable to regulated service | E19: =SUM(E17:E18) -> 319700000
A20: 7a(i): Regulated Service Asset Allocations | B20: =ROW() -> 20 | C20: Intangibles | D20: Directly attributable | E20: ='F1. RAB'!N66-E21 -> 58512826
A21: 7a(i): Regulated Service Asset Allocations | B21: =ROW() -> 21 | C21: Intangibles | D21: Not directly attributable | E21: 2187174.3
A22: 7a(i): Regulated Service Asset Allocations | B22: =ROW() -> 22 | C22: Total attributable to regulated service | E22: =SUM(E20:E21) -> 60700000
A23: 7a(i): Regulated Service Asset Allocations | B23: =ROW() -> 23 | C23: IST | D23: Directly attributable | E23: ='F1. RAB'!O66-E24 -> 1.4706019e+08
A24: 7a(i): Regulated Service Asset Allocations | B24: =ROW() -> 24 | C24: IST | D24: Not directly attributable | E24: 3139814.6
A25: 7a(i): Regulated Service Asset Allocations | B25: =ROW() -> 25 | C25: Total attributable to regulated service | E25: =SUM(E23:E24) -> 150200000
A26: 7a(i): Regulated Service Asset Allocations | B26: =ROW() -> 26 | C26: Business Support | D26: Directly attributable | E26: ='F1. RAB'!P66-E27 -> 1.4469696e+08
A27: 7a(i): Regulated Service Asset Allocations | B27: =ROW() -> 27 | C27: Business Support | D27: Not directly attributable | E27: 48203041
A28: 7a(i): Regulated Service Asset Allocations | B28: =ROW() -> 28 | C28: Total attributable to regulated service | E28: =SUM(E26:E27) -> 192900000
A29: 7a(i): Regulated Service Asset Allocations | B29: =ROW() -> 29 | C29: Pseudo Assets | D29: Directly attributable | E29: ='F1. RAB'!Q66 -> 41500000
A30: 7a(i): Regulated Service Asset Allocations | B30: =ROW() -> 30 | C30: Pseudo Assets | D30: Not directly attributable | E30: 0
A31: 7a(i): Regulated Service Asset Allocations | B31: =ROW() -> 31 | C31: Total attributable to regulated service | E31: =SUM(E29:E30) -> 41500000
A32: 7a(i): Regulated Service Asset Allocations | B32: =ROW() -> 32 | C32: Regulated service asset value directly attributed | E32: =SUM(E5,E8,E11,E14,E17,E20,E23,E26,E29) -> 5.56927e+09
A33: 7a(i): Regulated Service Asset Allocations | B33: =ROW() -> 33 | C33: Regulated service asset value not directly attributed | E33: =SUM(E6,E9,E12,E15,E18,E21,E24,E27,E30) -> 53530030
A34: 7a(i): Regulated Service Asset Allocations | B34: =ROW() -> 34 | C34: Total closing RAB value | E34: =E32+E33 -> 5622800000
A38: 7a(ii): Changes in Asset Allocations*† | O38: Required from disclosure year 2026
A39: Section | B39: Row | C39: Category1 | D39: Category2 | E39: Asset category | F39: Original allocator or line items | G39: New allocator or line items | H39: Rationale for change | I39: Original allocation| CY-1| ($M) | J39: Original allocation| Current Year (CY)| ($M) | K39: New allocation| CY-1| ($M) | L39: New allocation| Current Year (CY)| ($M) | M39: Difference| CY-1| ($M) | N39: Difference| Current Year (CY)| ($M)
A40: 7a(ii): Changes in Asset Allocations*† | B40: =ROW() -> 40 | C40: Change in asset value allocation 1 | M40: =I40-K40 -> 0 | N40: =J40-L40 -> 0
A41: 7a(ii): Changes in Asset Allocations*† | B41: =ROW() -> 41 | C41: Change in asset value allocation 2 | M41: =I41-K41 -> 0 | N41: =J41-L41 -> 0
A42: 7a(ii): Changes in Asset Allocations*† | B42: =ROW() -> 42 | C42: Change in asset value allocation 3 | M42: =I42-K42 -> 0 | N42: =J42-L42 -> 0
A44: * a change in asset allocation must be completed for each allocator or component change that has occurred in the disclosure year.
A45: † include additional rows if needed

Sheet TP1. ROI and profit
H1: Transpower | J1: Disclosure Date | K1: =+'F1. RAB'!$R$1 -> 46318
B2: Return on Investment (ROI) and Profit calculations | J2: Disclosure Year (year ended) | K2: =CoverSheet!$C$8 -> 46203
B3: Refer to paragraphs 8.7 to 8.14 of the Transpower Information Disclosure Determination 2014
B8: Reconciliation from the regulatory WACC to our ROI (clause 8.10.2)
B10: 65th percentile vanilla WACC (IPP version) | C10: 0.070963004
B11: Inflation adjustment (through the revaluation building block) | C11: 0.011788756
B12: Effect of permanent voluntary revenue reductions | C12: 0
B13: Contribution from incentives | C13: 0.0076939344
B14: Transpower's actual ROI | C14: =SUM(C10:C13) -> 0.090445694
B17: Adjust for exclusion of interest on EV account from ROI calculation | C17: -0.00056517124
B18: Double-count TCSD in tax allowance | C18: 0.00042080879
B19: Adjust to include IRIS as cashflow in regulatory profit calculation | C19: 0.00074806213
B20: Apply incorrect cashflow timing factor adjustment to revenue | C20: 0.0060775965
B21: Vanilla ROI calculated under clause 8.7 | C21: =SUM(C14:C20) -> 0.097126991
B24: Transpower's ROI (clauses 8.7 and 8.8)
B26: ROI (vanilla) | C26: =+C21 -> 0.097126991 | D26: Vanilla ROI calculated as required by Clause 8.7
B27: Cost of debt (ID) | C27: 0.0544
B28: ROI (post-tax) | C28: =C26-0.41*C27*0.28 -> 0.090881871 | D28: Post-tax ROI calculated as required by Clause 8.8
B30: A comparison of our ROI to the WACC used to calculate our revenue (clause 8.9.4)
B32: ROI (vanilla) | C32: =$C$26 -> 0.097126991 | D32: per clause 8.7
B33: 65th percentile vanilla WACC (IPP version) | C33: =+C10 -> 0.070963004 | D33: this is the WACC used for the purposes of calculating revenue for the disclosure year
B34: Difference | C34: =C32-C33 -> 0.026163986
B37: Comparison required by Clause 8.9.2
B38: ROI (vanilla) | C38: =$C$26 -> 0.097126991 | D38: per clause 8.7
B39: 75th percentile vanilla WACC (ID version) | C39: 0.0716
B40: Difference | C40: =C38-C39 -> 0.025526991
B42: Comparison required by Clause 8.10.3
B43: ROI (post-tax) | C43: =$C$28 -> 0.090881871 | D43: per clause 8.8
B44: 75th percentile post-tax WACC (ID version) | C44: 0.0653
B45: Difference | C45: =C43-C44 -> 0.025581871
B47: Clause 8.11.1 and clause 8.11.3
B48: This difference has the same components as those described under Clause 8.11.2 above, but with the added difference that the ID vanilla WACC rate is different from the IPP vanilla WACC rate and
B49: the 65th and 75th percentile WACCs are different.
B50: 65th percentile vanilla WACC (IPP version) | C50: =+C10 -> 0.070963004
B51: 75th percentile vanilla WACC (ID version) | C51: =C39 -> 0.0716
B52: Difference | C52: =C50-C51 -> -0.00063699577
B53: as above | C53: =C34 -> 0.026163986
B54: as above (8.8.3) | C54: =SUM(C52:C53) -> 0.025526991
B57: Comparison required by Clause 8.9.2
B58: ROI (vanilla) | C58: =$C$26 -> 0.097126991 | D58: per clause 8.7
...

Sheet TP2. Major project costs
G1: Transpower | I1: Disclosure Date | K1: =+'F1. RAB'!$R$1 -> 46318
A2: SCHEDULE TP2: PARTIALLY COMPLETED MAJOR PROJECTS: COSTS | I2: Disclosure Year (year ended) | K2: =CoverSheet!$C$8 -> 46203
A4: ref
A5: =ROW() -> 5 | C5: Updated cost forecasts for partially completed major projects
A6: =ROW() -> 6
A7: =ROW() -> 7 | F7: Major capex allowance | G7: Current forecast expected cost | H7: Original forecast expected costs | I7: Variance in the expected cost | J7: Variance in the expected cost | K7: Material (1)
A8: =ROW() -> 8 | F8: ($M) | G8: ($M) | H8: ($M) | I8: ($M) | J8: (%) | K8: (Y or N)
A9: =ROW() -> 9 | D9: Stage 1 - Waikato and Upper North Island Voltage Management | F9: 143000000 | G9: 106834560 | H9: =F9 -> 143000000 | I9: =G9-H9 -> -36165440 | J9: =G9/H9-1 -> -0.25290517 | K9: Y
A10: =ROW() -> 10 | D10: Net Zero Grid Pathways Stage 1 | F10: ='F5. Major Capex Projects'!G11 -> 392900000 | G10: 295130645 | H10: =F10 -> 392900000 | I10: =G10-H10 -> -97769355 | J10: =G10/H10-1 -> -0.2488403 | K10: Y
A11: =ROW() -> 11 | D11: Western Bay of Plenty | F11: ='F5. Major Capex Projects'!G12 -> 86100000 | G11: =F11 -> 86100000 | H11: =F11 -> 86100000 | I11: =G11-H11 -> 0 | J11: =G11/H11-1 -> 0 | K11: N
A12: =ROW() -> 12 | D12: Redclyffe 220kV Switchyard Resilience | F12: ='F5. Major Capex Projects'!G13 -> 47000000 | G12: 46710196 | H12: =F12 -> 47000000 | I12: =G12-H12 -> -289804 | J12: =G12/H12-1 -> -0.0061660426 | K12: N
A13: =ROW() -> 13 | D13: HVDC Link Upgrade Programme Stage 1 | F13: ='F5. Major Capex Projects'!G14 -> 1138600000 | G13: =F13 -> 1138600000 | H13: =F13 -> 1138600000 | I13: =G13-H13 -> 0 | J13: =G13/H13-1 -> 0 | K13: N
A14: =ROW() -> 14 | F14: =SUM(F9:F13) -> 1807600000 | G14: =SUM(G9:G13) -> 1673375401 | H14: =SUM(H9:H13) -> 1807600000 | I14: =SUM(I9:I13) -> -134224599
A15: =ROW() -> 15
A16: =ROW() -> 16 | D16: (1) 'Material' has been specified in our Information Disclosure Determination as being greater than 10% or $10m.
A17: =ROW() -> 17
A19: =ROW() -> 19 | D19: Stage 1 - Waikato and Upper North Island Voltage Management
A20: =ROW() -> 20 | D20: The reduction in cost is driven by three primary factors: a Special Protection Scheme that will no longer be constructed, a land purchase at Hangawera for a new site to host series capacitors that is not required, and thirdly a reduction in forecast due to cost savings realised through the construction phases of the Hamilton and Otahuhu STATCOMs.
D21: Net Zero Grid Pathways Stage 1
A22: =ROW() -> 22 | D22: The lower forecast reflects the exclusion of the $32 million risk allowance and savings achieved through optimisation of thermal upgrade scopes in the Central North Island and Wairakei Ring areas. Haywards STATCOM tenders are currently under review and are expected to increase the NZGP forecast.
A23: =ROW() -> 23
A25: 23 | D25: Western Bay of Plenty
A26: 23 | D26: The project is currently in the early detailed design phase, and pricing and detailed scope for major works has not yet been confirmed. The lower forecast vs the MAC reflects the exclusion of risk allowances from the forecast.
A27: 23

Sheet TP3. Major project timing
G1: Transpower | H1: Disclosure Date | I1: =+'F1. RAB'!$R$1 -> 46318
A2: SCHEDULE TP3: PARTIALLY COMPLETED MAJOR PROJECTS: TIMING | H2: Disclosure Year (year ended) | I2: =CoverSheet!$C$8 -> 46203
A4: ref
A5: =ROW() -> 5 | C5: Updated timing forecasts for partially completed major projects
A6: =ROW() -> 6
A7: =ROW() -> 7 | G7: Forecast commissioning at approval | H7: Current forecast commissioning | I7: Material (1)
A8: =ROW() -> 8 | G8: (date or date range) | H8: (date or date range) | I8: (Y or N)
A9: =ROW() -> 9 | D9: Waikato and Upper North Island Voltage Management Stage 1 | G9: ='F5. Major Capex Projects'!K10 -> Dec 2022 (except for Stage 2 preparatory works) | H9: 2023 to October 2025 for final commission of assets in Stage 1 - except for ongoing investigation costs and preparatory works | I9: Y
D10: Net Zero Grid Pathways Stage 1 | G10: Various with final commissioning June 2028 | H10: Various with final commissioning for build work June 2029. Stage 2 preparatory work cannot be commissioned until Stage 2 is built | I10: Y
D11: Western Bay of Plenty | G11: Various with final commissioning in Dec 2032 | H11: Various with final commissioning in Dec 2032 | I11: N
D12: Redclyffe 220kV Switchyard Resilience | G12: 46722 | H12: 46722 | I12: N
D13: HVDC Link Upgrade Programme Stage 1 | G13: Various with final commissioning December 2031 | H13: Various with final commissioning December 2031 | I13: N
A14: =ROW() -> 14
A15: =ROW() -> 15 | D15: (1) 'Material' has been specified in our Information Disclosure Determination as being greater than 3 months
A16: =ROW() -> 16
A17: =ROW() -> 17
A18: =ROW() -> 18 | D18: Stage 1 - Waikato and Upper North Island Voltage Management (WUNIVM):
A19: =ROW() -> 19 | D19: The WUNIVM investment challenge was complex when considering both prospective generation changes from the Huntly Power Station, and demand growth in the region. Given these uncertainties, the potential for a significant reduction in generation at short notice, and the lead times for investment, Transpower initially decided to proceed with the first phase of the WUNIVM stage 1 proposal in November 2020: one grid stability device at Hamilton with a target commissioning date of winter 2023. This plan reduced risk by addressing voltage stability needs should regional thermal generation reduce, and demand increase as forecast. Transpower needed 30 months to install the equipment. By undertaking construction of the first of two phases of stage one of the project, we could adequately manage risk to electricity supply by winter 2023 and the following one to two years. Prior to committing to the device at Hamilton, we investigated possible non-transmission alternatives to the transmission investment. Given the technical performance requirements of the voltage stability need at Hamilton we were unable to secure a lower-cost option. We then undertook an RFP process for the installation of a non-transmission investment that could potentially defer or replace the need for transmission investment of the second STATCOM at Otahuhu. This evaluation concluded that neither Battery Energy Storage Systems options were economic when compared with the second STATCOM. As a result, the Ōtāhuhu STATCOM remained the preferred solution and was subsequently delivered and commissioned, with the final milestone payment made in FY26. The approved WUNI Stage 1 delivery outputs have now been completed, with both STATCOM installations commissioned and operational. The only remaining activity under the WUNI Stage 1 approval relates to the Stage 2 investigation programme, including preparatory work and development of the WUNI Stage 2 Major Capex Proposal. The WUNI Stage 2 submission is currently expected to be lodged with the Commerce Commission in October 2026. | L19: Commentary consistent with prior year - all build has been commissioned
A20: =ROW() -> 20
A21: =ROW() -> 21 | D21: Net Zero Grid Pathways Stage 1
