Workbook
Name __ITT3: #REF!
Name __lob2: #REF!
Name __SPA3: #REF!
Name _Hlk26272835: #REF!
Name _ITT3: #REF!
Name _lob2: #REF!
Name _msoanchor_2: #REF!
Name _SPA3: #REF!
Name aa: #REF!
Name ACC_CHK: #REF!
Name AccountList: #REF!
Name ActivityTypeNew: #REF!
Name Actual: #REF!
Name actualscenario: #REF!
Name ActualYTD4: #REF!
Name add: #REF!
Name add_admin: #REF!
Name add_comm: #REF!
Name add_dctl: #REF!
Name add_ease: #REF!
Name add_hvdc: #REF!
Name add_subs: #REF!
Name add_tlan: #REF!
Name add_tran: #REF!
Name adj_admin: #REF!
Name adj_comm: #REF!
Name adj_dctl: #REF!
Name adj_ease: #REF!
Name adj_hvdc: #REF!
Name adj_subs: #REF!
Name adj_tlan: #REF!
Name adj_tran: #REF!
Name AdjustmentFactor: #REF!
Name admin: #REF!
Name admin_add: #REF!
Name admin1: #REF!
Name ADMINDEP: #REF!
Name ADMN: #REF!
Name ADMN_DEP: #REF!
Name admn_depret: #REF!
Name admn_deptrf: #REF!
Name ADMN_NBV: #REF!
Name admn_ret: #REF!
Name admn_trf: #REF!
Name admn2: #REF!
Name ADMN3: #REF!
Name admnnbv: #REF!
Name ADMNRET: #REF!
Name ADMNTRF: #REF!
Name AllMetals_4YrAvg: #REF!
Name Allocation_Sheet: #REF!
Name Aluminium_4YrAvg: #REF!
Name AMP_FY20_FY21: #REF!
Name AMPCat: #REF!
Name AMT_400KV: #REF!
Name Answer1: OFFSET(#REF!,0,0,SUM(#REF!),1)
Name ASS_CUBE: #REF!
Name AssetBaseIIInclude: #REF!
Name AssetBaseIInclude: #REF!
Name ATTR_CC_DESC: #REF!

Sheet Cover
B10: Regulatory disclosure of the Annual Compliance Statement as required by
B13: Part 5 of the Transpower Individual Price-Quality Path Determination 2025 ("IPP")
B16: for the period
B17: =TEXT(DATE(YEAR('Directors Certificate'!K3)-1,7,1),"d mmmm yyyy")&" to "&TEXT('Directors Certificate'!K3,"d mmmm yyyy") -> 1 July 2025 to 30 June 2026
D19: ="Published on: "&TEXT('Directors Certificate'!E6,"d mmmm yyyy") -> Published on: 23 October 2026

Sheet Directors Certificate
B2: The Annual Compliance Statement IPP determination 2025, Part 5, clause 25.2.1, clause 25.2.5 and clause 25.2.6 and Directors Certificate
J3: Disclosure Year: | K3: =DATE(YEAR(E6),6,30) -> 46203
B4: IPP reference: 25.2.1 The annual compliance statement must state whether or not Transpower has complied with the following:
C6: Preparation date: | E6: 46318
B8: Transpower has complied with | E8: Yes/No | G8: IPP reference
B10: - the quality standards in clause 14.1.1 | E10: Yes | G10: Transpower IPP determination 2025, Part 5, clause 25.2.1(a)
B11: - the quality standards in clause 14.1.2 | E11: Not applicable | G11: Transpower IPP determination 2025, Part 5, clause 25.2.1(a)
B12: - the quality standards in clause 16.1.1 | E12: Yes | G12: Transpower IPP determination 2025, Part 5, clause 25.2.1(a)
B13: - the quality standards in clause 16.1.2 | E13: Not applicable | G13: Transpower IPP determination 2025, Part 5, clause 25.2.1(a)
B14: - the quality standards in clause 18.1 (incl. 2 to 4) | E14: Yes | G14: Transpower IPP determination 2025, Part 5, clause 25.2.1(a)
B15: - the quality standards in clause 19.1 | E15: Yes | G15: Transpower IPP determination 2025, Part 5, clause 25.2.1(a)
B16: - the quality standards in clause 22.1.1 | E16: Not applicable | G16: Transpower IPP determination 2025, Part 5, clause 25.2.1(a)
B17: - the quality standards in clause 22.1.2 | E17: Not applicable | G17: Transpower IPP determination 2025, Part 5, clause 25.2.1(a)
B18: - the quality standards in clause 22.2.1 | E18: Not applicable | G18: Transpower IPP determination 2025, Part 5, clause 25.2.1(a)
B19: - the quality standards in clause 22.2.2 | E19: Not applicable | G19: Transpower IPP determination 2025, Part 5, clause 25.2.1(a)
B21: - the requirement to publicly disclose, in accordance with the ID determination, its annual grid output adjustment calculation for the disclosure year, including the values for ‘m’ calculated in accordance with Schedule B, clause B2(1) of the Capex IM | E21: Yes | G21: Transpower IPP determination 2025, Part 5, clause 25.2.1(b)
... B25: - requirements related to wash-up calculations and public disclosure | E25: Yes | G25: Transpower IPP determination 2025, Part 5, clause 25.2.1(d)
B29: TRANSPOWER NEW ZEALAND LIMITED Individual Price-Quality Path (IPP) Annual Compliance Statement 1 July 2025 to June 2026
B57: ="Transpower's Annual Compliance Statement for the year ending " & TEXT('Directors Certificate'!$K$3,"dd mmmm yyyy") -> Transpower's Annual Compliance Statement for the year ending 30 June 2026

Sheet Assurance Report
B2: Independent Assurance Report
B3: Transpower IPP determination 2025, Part 5, clause 37.1
B41: ='Directors Certificate'!B57 -> Transpower's Annual Compliance Statement for the year ending 30 June 2026

Sheet Table of Contents
B2: Annual Compliance Statement
B3: Workbook - Table of Contents for RCP4 | C3: ="Disclosure Year: "&TEXT('Directors Certificate'!K3,"d mmmm yyyy") -> Disclosure Year: 30 June 2026
B4: Requirements of the Price Quality Path Determination (IPP) 2025
B5: Transpower-Individual-Price-Quality-Path-Determination-2025 (Commerce Commission Website)
B6: This workbook contains the disclosure of our Annual Compliance Statement (ACS) as required by our Individual Price-Quality Path Determination (IPP) and the additional information the ACS must include. These disclosures relate principally to our annual wash-up calculation (i.e. the calculation of the economic gain or loss for the disclosure year), the related adjustments to the Economic Value (EV) account and Transpower's performance in relation to the Grid Output measures for which quality standards have been set. This workbook also contains an alternative wash-up calculation (Sheet 3_RevenueBuildingBlocks) that is mathematically identical to the approach mandated by the IPP (Schedule E), but which applies a full bottom-up building blocks methodology.
B8: Additional Information to accompany the ACS
B9: The IPP determination requires additional information to be disclosed alongside the ACS relating to asset and grid performance. These disclosures as additional sheets included in the ACS.
B10: Information Disclosures
B11: Accompanying this workbook is another workbook that includes the information required by our Information Disclosure Determination. Those disclosures supplement these, and include information relating to other aspects of our regulated business such as our regulated asset base, major capital projects, profit and return on investment, customer investment contracts, system statistics, demand and injection amounts and more detailed network performance data.
B14: The Annual Compliance Statement (Transpower IPP determination 2025, Part 5) | C14: Location | D14: IPP reference
B15: The Annual Compliance Statement - Part 1 | C15: Tab 1 | D15: Transpower IPP determination 2020, Part 5, clause 23.2.1 and 23.2.5/6
B16: The Annual Compliance Statement - Part 2 | C16: Tab 2 | D16: Transpower IPP determination 2020, Part 5, clause 23.2.2/3/4
B17: The Independent Assurance Report | C17: Tab 3 | D17: Transpower IPP determination 2020, Part 5, clause 23.2.7
B18: The Annual Compliance Statement - information requirements (Transpower IPP determination 2020, Part 5, clause 24) - Tab colour green | C18: Workbook location | D18: IPP reference
B19: The ex-post economic gain or loss for the disclosure year, calculated in accordance with clause 29.1 and Schedule E | C19: Tab 4 | D19: Transpower IPP determination 2020, Part 5, clause 24.1.1
B20: The forecast revenue for electricity transmission services used for setting charges under the TPM | C20: Tab 5 | D20: Transpower IPP determination 2020, Part 5, clause 24.1.2
B21: Transmission revenue received for the pricing year | C21: Tab 6 | D21: Transpower IPP determination 2020, Part 5, clause 24.1.3
B22: Other regulated income received for the pricing year | C22: Tab 6 | D22: Transpower IPP determination 2020, Part 5, clause 24.1.4
B23: A description and explanation of any voluntary revenue reduction Transpower has made in calculating the ex-post economic gain or loss for the disclosure year | C23: Tab 4 | D23: Transpower IPP determination 2020, Part 5, clause 24.1.5
B24: An updated summary of the EV account as set out in Schedule B | C24: Tab 7 | D24: Transpower IPP determination 2020, Part 5, clause 24.1.6
B25: An updated forecast EV account balance at the end of RCP3 | C25: Tab 8 | D25: Transpower IPP determination 2020, Part 5, clause 24.1.6
... B49: The Annual Compliance Statement - Part 2 (alternative) | C49: Tab 2(a) | D49: Transpower IPP determination 2020, Part 5, clause 23.2.2/3/4 (excluding exceptional events)
B51: 1. Inputs | C51: Link to Section
B52: =+'1_Inputs'!B4 -> 1.1 - Basis of Preparation | C52: Section 1.1 | D52: Inputs Sheet
B53: =+'1_Inputs'!B7 -> 1.2 - Regulatory Inputs | C53: Section 1.2 | D53: Inputs Sheet
B54: =+'1_Inputs'!B17 -> 1.3 - Inflation inputs | C54: Section 1.3 | D54: Inputs Sheet
B55: 2. Revenue | C55: =+C51 -> Link to Section | D55: IPP reference
B56: =+'2_Revenue'!B4 -> 2.1 - Revenue for electricity transmission services used for setting charges under the TPM | C56: Section 2.1 | D56: Transpower IPP determination 2025, Part 5, clause 26.1.2
B57: =+'2_Revenue'!B22 -> 2.2 - Actual regulated electricity transmission revenue | C57: Section 2.2 | D57: Transpower IPP determination 2025, Schedule D
B58: 3. Revenue Building Blocks | C58: =+C55 -> Link to Section | D58: IPP reference
B59: =+'3_RevenueBuildingBlocks'!B4 -> 3.1 - Full building blocks calculation of the forecast MAR for the disclosure year | C59: Section 3.1 | D59: Transpower IPP determination 2025, Part 5, clause 26.1.3, Schedule D
B60: =+'3_RevenueBuildingBlocks'!B38 -> 3.2 - The ex-post economic gain or loss for the disclosure year | C60: Section 3.2 | D60: Transpower IPP determination 2025, Part 5, clause 25.2.1(d), 26.1.1, 32.1 and Schedule E
B61: ='3_RevenueBuildingBlocks'!B84 -> 3.3 - Transpower's voluntary revenue reductions applied to the Ex Post economic gain or loss | C61: Section 3.3 | D61: Transpower IPP determination 2025, Part 5, clause 25.2.1(d), 26.1.1, 32.1 and Schedule E
B62: 4. Regulatory Asset Base (RAB) | C62: =+C55 -> Link to Section | D62: IPP reference
B63: ='4_RAB'!B4 -> 4.1 - RAB roll forward | C63: Section 4.1 | D63: Transpower IPP determination 2025, Part 5, clause 32.1.2 - 32.1.4
B64: ='4_RAB'!B45 -> 4.2 - Depreciation | C64: Section 4.2 | D64: Transpower IPP determination 2025, Part 5, clause 32.1.5
B65: ='4_RAB'!B69 -> 4.3 - Revaluation | C65: Section 4.3 | D65: Transpower IPP determination 2025, Part 5, clause 32.1.6
B66: 5. Base Capex Allowance | C66: =+C55 -> Link to Section | D66: IPP reference
B67: ='5_BaseCapexAllowance'!B4 -> 5.1 - Updated summaries of the approved base capex as set out in Schedules C1 to C4 | C67: Section 5.1 | D67: Transpower IPP determination 2025, Part 5, clause 26.1.8 - 26.1.9
B68: 6. Base Capex Disparities Adjustments | C68: =+C66 -> Link to Section
...

Sheet 1_Inputs
B2: Annual Compliance Statement 1. Inputs in to the ACS
L3: Disclosure Year: | M3: =+'Directors Certificate'!K3 -> 46203
B4: 1.1 - Basis of Preparation
B5: Transpower annual compliance statement is prepared: - in accordance with Transpower's Individual Price Quality Path Determination 2025; with reference to the Transpower Input Methodologies Determination 4June 2026 and Transpower Capital Expenditure Methodologies Determination 4 June 2026 - in millions of New Zealand dollars (NZD), unless otherwise noted.
B7: 1.2 - Regulatory Inputs
B9: Table 1.2.1 | D9: Rate | E9: Reference
C10: Corporate tax rate | D10: 0.28 | E10: Income Tax Act 2007 as referenced in the Transpower Input Methodologies
C11: WACC 65th Percentile | D11: 0.071 | E11: Cost of capital determination for electricity distribution businesses' default price-quality path commencing 2025 and Transpower New Zealand Limited's 2025-2030 individual price-quality path
C12: WACC Mid point | D12: 0.0668
C13: Post tax WACC | D13: 0.0644
C14: Base Capex Standard Incentive rate | D14: =+(1-(1/((1+D12)^6))) -> 0.32157482 | E14: Transpower Input Methodology 2025
C15: Base Capex low Incentive rate | D15: 0.15
B17: 1.3 - Inflation inputs
C19: Calculation of inflation actual outturn for the RCP4 period
F20: Disclosure year (finishing June)
B21: Table 1.3.1 | D21: CPI assumptions | E21: Source reference | F21: 2023 | G21: =F21+1 -> 2024 | H21: =G21+1 -> 2025 | I21: =H21+1 -> 2026 | J21: =I21+1 -> 2027 | K21: =J21+1 -> 2028 | L21: =K21+1 -> 2029 | M21: =L21+1 -> 2030
C22: As per IPP determination | D22: Rate | E22: Transpower IPP determination 2025 Schedule C8 | G22: 0.044026457 | H22: 0.022749159 | I22: 0.022 | J22: 0.02 | K22: 0.02 | L22: 0.02 | M22: 0.02
B23: A | D23: Index | E23: calculated | F23: 1 | G23: =+F23*(1+G22) -> 1.0440265 | H23: =+G23*(1+H22) -> 1.0677772 | I23: =+H23*(1+I22) -> 1.0912683 | J23: =+I23*(1+J22) -> 1.1130936 | K23: =+J23*(1+K22) -> 1.1353555 | L23: =+K23*(1+L22) -> 1.1580626 | M23: =+L23*(1+M22) -> 1.1812239
C24: Actual outturn | D24: Rate | E24: Statistics New Zealand | G24: 0.044026457 | H24: 0.023955652 | I24: 0.033255994
B25: B | D25: Index | E25: calculated | F25: 1 | G25: =+F25*(1+G24) -> 1.0440265 | H25: =+G25*(1+H24) -> 1.0690368 | I25: =+IF(I24=0,,H25*(1+I24)) -> 1.1045887 | J25: =+IF(J24=0,,I25*(1+J24)) -> 0 | K25: =+IF(K24=0,,J25*(1+K24)) -> 0 | L25: =+IF(L24=0,,K25*(1+L24)) -> 0 | M25: =+IF(M24=0,,L25*(1+M24)) -> 0
C27: Calculation of Revaluation Rate and Revaluation of Assets
B29: Table 1.3.2 | D29: Rate | E29: Reference
C30: CPI4 | D30: 1359 | E30: Statistics New Zealand - As at 30 June 2026
C31: CPI4-4 | D31: 1306 | E31: Statistics New Zealand - As at 30 June 2025
C32: Revaluation rate (%) | D32: =IF(D30<>0,D30/D31-1, 0) -> 0.04058193
B34: ='Directors Certificate'!B57 -> Transpower's Annual Compliance Statement for the year ending 30 June 2026

Sheet Revenue and expenditure
B4: Revenue and Expenditure
B5: (Including other financial considerations such as the EV account, pass-though and recoverable costs, and Tax)

Sheet 2_Revenue
B2: Annual Compliance Statement 2. Forecast revenue, Other regulated income and Revenue allowances per the IPP
I3: Disclosure Year: | J3: =+'4_RAB'!E3 -> 46203
B4: 2.1 - Revenue for electricity transmission services used for setting charges under the TPM
B5: Transpower's revenue allowance is approved under the IPP as at November 2024 effective for the disclosure years ending 30 June 2026 - 30 June 2030. As part of the IPP, Transpower is eligible to apply for reopeners to its individual price-quality including a change in its revenue allowances. Under the IPP, Transpower updates Schedule A as part of its reopener application.
B6: IPP Reference: 26.1.2 the forecast revenue for electricity transmission services that Transpower used for setting charges under the TPM for the relevant pricing year
B8: Table 2.1.1 | D8: Total
C9: Forecast revenue applied to the TPM | D9: =K16 -> 976.7
B11: Table 2.1.2
B12: IPP Reference: Under the IPP Transpower is not required to disclose this schedule as part of the ACS, this is reported for completeness and comparative purposes
B13: IPP Schedule A: Summary of forecast MAR and forecast SMAR
C14: Forecast MAR applied to pricing years in RCP4 ending | D14: Forecast MAR is calculated based on building block values for the disclosure year ending | E14: Initial determined value of forecast MAR for pricing year | F14: Incremental update to forecast MAR determined in 2025 | G14: Incremental update to forecast MAR determined in 2026 | H14: Incremental update to forecast MAR determined in 2027 | I14: Incremental update to forecast MAR determined in 2028 | J14: Total forecast MAR applicable to the pricing year (sum of amounts in columns 3 to 7) | K14: Forecast SMAR applicable to the pricing years in RCP4
C15: Column 1 | D15: Column 2 | E15: Column 3 | F15: Column 4 | G15: Column 5 | H15: Column 6 | I15: Column 7 | J15: Column 8 | K15: Column 9
C16: 31 March 2026 (Year 1) | D16: 46203 | E16: 1076 | J16: =SUM(E16:I16) -> 1076 | K16: 976.7
C17: 31 March 2027 (Year 2) | D17: 46568 | E17: 1112.9 | F17: 17 | J17: =SUM(E17:I17) -> 1129.9 | K17: 1141.4
C18: 31 March 2028 (Year 3) | D18: 46934 | E18: 1161.7 | F18: 2.1 | G18: 0 | J18: =SUM(E18:I18) -> 1163.8 | K18: 1198.4
C19: 31 March 2029 (Year 4) | D19: 47299 | E19: 1230.4 | F19: 2.4 | G19: 0 | H19: 0 | J19: =SUM(E19:I19) -> 1232.8 | K19: 1258.4
C20: 31 March 2030 (Year 5) | D20: 47664 | E20: 1271.6 | F20: 2.6 | G20: 0 | H20: 0 | I20: 0 | J20: =SUM(E20:I20) -> 1274.2 | K20: 1321.3
B22: 2.2 - Actual regulated electricity transmission revenue
B23: Transpower discloses the electricity transmission revenue charged under the TPM as the disclosure year value, as well as the other regulated income received during the disclosure year.
B24: IPP Reference: 26.1.3 the actual transmission revenue for the relevant pricing year and, 32.1.11 for actual revenues received by Transpower: (a) the actual transmission revenue received in the pricing year, as converted to a disclosure year value in accordance with clause 9.2; and (b) the sum of other regulated income received in the disclosure year;
B26: Table 2.2.1 | D26: Transmission
B27: plus | C27: Connection Charges | D27: 150.77032
B28: plus | C28: Benefit Based Charges | D28: 304.57983
B29: plus | C29: Residual Charges | D29: 474.95006
B30: plus | C30: Transitional Cap | D30: -0.00146856
B31: plus | C31: EV adjustment | D31: 44.696844
B32: plus | C32: Other regulated income | D32: 6.799314
C33: Transmission revenue received for the pricing year | D33: =SUM(D27:D32) -> 981.79489
B35: ="Transpower's Annual Compliance Statement for the year ending " & TEXT('Directors Certificate'!$K$3,"dd mmmm yyyy") -> Transpower's Annual Compliance Statement for the year ending 30 June 2026

Sheet 3_RevenueBuildingBlocks
B2: Annual Compliance Statement 3. Revenue Building blocks calculation, and post economic gain / (loss) for the year
H3: Disclosure Year: | I3: =+'4_RAB'!E3 -> 46203
B4: 3.1 - Full building blocks calculation of the forecast MAR for the disclosure year
B5: Transpower's forecast MAR is derived from the MAR building blocks in line with Schedule D of the IPP. The details used in the creation of this table are pulled from the published revenue model for RCP4 published in November 2024 as well as the allowance in Schedule C4 and Schedule C7 in the IPP + reopeners. Refer to Table 5.1.4 for the updates to Schedule C4. The table below is the public disclosure of the forecast update inline with 8.4.3 of the IPP, and is an update to the forecast MAR and SMAR for the year.
B6: IPP Reference: Under the IPP Transpower is not required to disclose this schedule as part of the ACS, this is reported for completeness
B7: Table 3.1.1
B8: IPP Schedule D: Forecast MAR building blocks calculation | H8: Forecast MAR - as determined in IPP determination 2025
C9: MAR building block (forecast/ex-post | D9: Description of nominal value to be applied (forecast/ex-post) | E9: Schedule D reference | G9: Cash flow timing factor | H9: Total (nominal value) | I9: Total (building block value)
B10: Schedule D column | C10: Column 1 | D10: Column 2 | G10: Column 4 | H10: Column 3 | I10: Column 5
C11: WACC | D11: WACC | E11: A1 | G11: ='1_Inputs'!D11 -> 0.071
C12: WACC return on opening RAB value | D12: Opening RAB value | E12: B | G12: =+$G$11/(1+G11)^(163/365) -> 0.068858111 | H12: 5215.4665 | I12: =H12*G12 -> 359.12717
C13: WACC return on value of commissioned assets - July | D13: Value of commissioned assets - July | E13: C1 | G13: =((1+$G$11)^(349.5/365)-1)/(1+$G$11)^(163/365) -> 0.065836969 | H13: 0 | I13: =H13*G13 -> 0
C14: WACC return on value of commissioned assets - August | D14: Value of commissioned assets - August | E14: C2 | G14: =((1+$G$11)^(318.5/365)-1)/(1+$G$11)^(163/365) -> 0.059821021 | H14: 0 | I14: =H14*G14 -> 0
C15: WACC return on value of commissioned assets - September | D15: Value of commissioned assets - September | E15: C3 | G15: =((1+$G$11)^(288/365)-1)/(1+$G$11)^(163/365) -> 0.053936209 | H15: 0 | I15: =H15*G15 -> 0
C16: WACC return on value of commissioned assets - October | D16: Value of commissioned assets - October | E16: C4 | G16: =((1+$G$11)^(257.5/365)-1)/(1+$G$11)^(163/365) -> 0.048085032 | H16: 0 | I16: =H16*G16 -> 0
C17: WACC return on value of commissioned assets - November | D17: Value of commissioned assets - November | E17: C5 | G17: =((1+$G$11)^(227/365)-1)/(1+$G$11)^(163/365) -> 0.042267295 | H17: 0 | I17: =H17*G17 -> 0
C18: WACC return on value of commissioned assets - December | D18: Value of commissioned assets - December | E18: C6 | G18: =((1+$G$11)^(196.5/365)-1)/(1+$G$11)^(163/365) -> 0.036482809 | H18: 273.70012 | I18: =H18*G18 -> 9.9853493
C19: WACC return on value of commissioned assets - January | D19: Value of commissioned assets - January | E19: C7 | G19: =((1+$G$11)^(165.5/365)-1)/(1+$G$11)^(163/365) -> 0.030637372 | H19: 273.70012 | I19: =H19*G19 -> 8.3854524
C20: WACC return on value of commissioned assets - February | D20: Value of commissioned assets - February | E20: C8 | G20: =((1+$G$11)^(136/365)-1)/(1+$G$11)^(163/365) -> 0.025106312 | H20: 0 | I20: =H20*G20 -> 0
C21: WACC return on value of commissioned assets - March | D21: Value of commissioned assets - March | E21: C9 | G21: =((1+$G$11)^(106.5/365)-1)/(1+$G$11)^(163/365) -> 0.01960583 | H21: 0 | I21: =H21*G21 -> 0
C22: WACC return on value of commissioned assets - April | D22: Value of commissioned assets - April | E22: C10 | G22: =((1+$G$11)^(76/365)-1)/(1+$G$11)^(163/365) -> 0.013950861 | H22: 0 | I22: =H22*G22 -> 0
C23: WACC return on value of commissioned assets - May | D23: Value of commissioned assets - May | E23: C11 | G23: =((1+$G$11)^(45.5/365)-1)/(1+$G$11)^(163/365) -> 0.0083282131 | H23: 0 | I23: =H23*G23 -> 0
C24: WACC return on value of commissioned assets - June | D24: Value of commissioned assets - June | E24: C12 | G24: =((1+$G$11)^(15/365)-1)/(1+$G$11)^(163/365) -> 0.0027377002 | H24: 0 | I24: =H24*G24 -> 0
C25: Total capital charge | D25: Sum of building blocks values from 1 to 17 | E25: D | I25: =SUM(I11:I24) -> 377.49797
C26: Forecast revaluation | D26: Forecast revaluation | E26: E1 | G26: =1/(1+$G$11)^(163/365) -> 0.96983255 | H26: -99.029486 | I26: =H26*G26 -> -96.042019
C27: Forecast depreciation | D27: Depreciation | E27: E2 | G27: =1/(1+$G$11)^(163/365) -> 0.96983255 | H27: 281.77055 | I27: =H27*G27 -> 273.27025
C28: Operating expenditure | D28: opex allowance | E28: F | G28: =(1+$G$11)^(19/365) -> 1.003577 | H28: 421.10482 | I28: =H28*G28 -> 422.6111
C29: Tax | D29: Regulatory tax allowance | E29: G | G29: =(1+$G$11)^(19/365) -> 1.003577 | H29: 23.216791 | I29: =H29*G29 -> 23.299837
C30: Term credit spread differential | D30: Term credit spread differential allowance | E30: H | G30: =(1+$G$11)^(19/365) -> 1.003577 | H30: 3.1636215 | I30: =H30*G30 -> 3.1749376
C31: EV adjustment | D31: EV adjustment after tax gross-up | E31: I | G31: =1/(1+$G$11)^(163/365) -> 0.96983255 | H31: 46.087172 | I31: =H31*G31 -> 44.69684
C32: Pass-through costs | D32: Pass-through costs | E32: J | G32: =(1+$G$11)^(19/365) -> 1.003577 | H32: 22.283521 | I32: =H32*G32 -> 22.363229
C33: Recoverable costs - non-IRIS | D33: Recoverable costs - non-IRIS | E33: K1 | G33: =(1+$G$11)^(19/365) -> 1.003577 | H33: 3.1710635 | I33: =H33*G33 -> 3.1824063
C34: Recoverable costs - IRIS | D34: Recoverable costs - IRIS | E34: K2 | G34: =(1+$G$11)^(19/365) -> 1.003577 | H34: 1.938 | I34: =H34*G34 -> 1.9449322
C35: Total MAR | D35: Sum of building blocks values from 15 to 24 | E35: D | I35: =+I25+SUM(I26:I34) -> 1075.9995
B38: 3.2 - The ex-post economic gain or loss for the disclosure year
B39: The revenue wash-up is the difference between what Transpower is allowed to recover (Schedule D) and, given our actual expenditure and other regulated income (Schedule E), what we should recover. The wash-up calculation is specified in detail in Schedule E of the IPP. This is a profit-based calculation which shows Transpower's after-tax economic gain or loss for the year relative to the regulatory RCP4 WACC (the capital charge). Any after-tax gain must be returned to customers in RCP5, and any losses can be recovered.
B40: IPP Reference: 26.1.1 the ex-post economic gain or loss for the disclosure year, calculated in accordance with clause 32.1 and Schedule E, including any supporting information
B42: Table 3.2.1
B43: Schedule E: Wash-up building blocks calculation
C44: Wash-up building block | D44: Description of nominal value to be applied | E44: Schedule E reference | G44: Cash flow timing factor | H44: Total (nominal value) | I44: Total (wash-up value)
...

Sheet 4_RAB
B2: Annual Compliance Statement 4.Regulatory Asset Base (RAB), Depreciation & Indexation
D3: Disclosure Year: | E3: =+'Directors Certificate'!K3 -> 46203
B4: 4.1 - RAB roll forward
B5: Transpower's RAB is its regulatory asset base, made up of the transmission assets commissioned as at 30 June of the disclosure year. The RAB is used as part of the calculations of Transpower's revenue washup into the EV account through the calculation of the ex- post economic gain or loss (wash up building blocks) in tab 3.
B6: IPP Reference: 32.1 For the purposes of annually calculating the ex-post economic gain or loss, Transpower must use: 32.1.2 the opening RAB value; 32.1.3 the actual amounts by month of commissioning in the disclosure year for value of commissioned asset of approved base capex and major capex
B8: Table 4.1.1
E9: Total
C10: Opening RAB balance | E10: 5224.3984
B11: plus/less | C11: prior year adjustments
B13: plus | C13: Value of commissioned assets - July | E13: 65.078073
B14: plus | C14: Value of commissioned assets - August | E14: 44.570868
B15: plus | C15: Value of commissioned assets - September | E15: 41.622541
B16: plus | C16: Value of commissioned assets - October | E16: 21.58337
B17: plus | C17: Value of commissioned assets - November | E17: 40.302682
B18: plus | C18: Value of commissioned assets - December | E18: 27.345923
B19: plus | C19: Value of commissioned assets - January | E19: 29.306612
B20: plus | C20: Value of commissioned assets - February | E20: 14.317842
B21: plus | C21: Value of commissioned assets - March | E21: 40.257495
B22: plus | C22: Value of commissioned assets - April | E22: 33.943528
B23: plus | C23: Value of commissioned assets - May | E23: 49.099228
B24: plus | C24: Value of commissioned assets - June | E24: 75.125253
B26: less | C26: Depreciation | E26: =-E51-E52 -> -281.6
B27: less | C27: Asset write-offs and disposals | E27: =-E38 -> -6.3980671
B28: less | C28: Lost assets | E28: 0
B29: less | C29: Adjustment to opening RAB resulting in change cost allocation | E29: -0.3
B30: plus | C30: Found assets | E30: 0
B31: plus | C31: Revaluation | E31: =E82 -> 204.098
B33: plus/less | C33: miscellaneous immaterial adjustments
C34: Closing RAB balance | E34: =+SUM(E10:E33) -> 5622.7518
B36: Table 4.1.2
E37: Total
C38: Net book value of disposed assets (incl. impairments) | E38: 6.3980671
B39: less | C39: Proceeds from disposed assets | E39: -0.73706757
B40: plus/less | C40: Other adjustments | E40: 0
C41: Net (gain)/loss on disposal of assets | E41: =+SUM(E38:E40) -> 5.6609996
B43: Note: This closing RAB balance reconciles exactly to the numbers in Transpower's to the information disclosures (see note regarding pseudo asset explanation under Table 4.2.1). They are not however equal to the numbers in the financial statements, because the RAB excludes customer-funded assets and assets relating to other unregulated lines of business.
B45: 4.2 - Depreciation
B46: Transpower calculates its depreciation including any capitalised interest adjustments required to align Transpower’s borrowing costs capitalised on its works under construction.
B47: IPP Reference: 32.1 For the purposes of annually calculating the ex-post economic gain or loss, Transpower must use: 32.1.5 - depreciation, including any capitalised interest adjustments required to align Transpower’s borrowing costs capitalised on its works under construction with the requirements of clause 2.2.10(3)(c) of the Transpower IM.
B49: Table 4.2.1
...

Sheet 5_BaseCapexAllowance
B2: Annual Compliance Statement 5. Approved Base Capex
H3: Disclosure Year: | I3: =+'Directors Certificate'!K3 -> 46203
B4: 5.1 - Updated summaries of the approved base capex as set out in Schedules C1 to C4
B5: Transpower's base capex allowance is approved under the IPP as at November 2024 effective for the disclosure years ending 30 June 2026-30 June 2030. As part of the IPP, Transpower is eligible to apply for reopeners to its individual price-quality including a change in its base capex allowances. Under the IPP, Transpower is required to disclose its updated allowances in the form of the below schedules as incrementally applicable after each reopener application.
B6: The below schedules reflect all reopeners approved by the Commerce Commission. We note that as at the signing of the ACS, Transpower has an open reopener application with the Commerce Commission which will be entered into the year it relates to once approved.
B7: IPP Reference: 26.1.8 updated summaries of the approved base capex as set out in Schedules C1 to C4;
B9: Table 5.1.1
B10: IPP Schedule C1: Approved low incentive rate base capex summary - commissioned basis (including capitalised operating leases)
C11: Disclosure year ending | D11: Value of low incentive rate base capex allowance as determined 29 August 2024 | E11: Incremental approved low incentive rate listed project base capex determined in 2025 | F11: Incremental approved low incentive rate listed project base capex determined in 2026 | G11: Incremental approved low incentive rate listed project base capex determined in 2027 | H11: Incremental approved low incentive rate listed project base capex determined in 2028 | I11: Approved low incentive rate base capex allowance for purposes of forecast MAR in the disclosure year
C12: Column 1 | D12: Column 2 | E12: Column 3 | F12: Column 4 | G12: Column 5 | H12: Column 6 | I12: Column 7
C13: 46203 | D13: 0 | I13: =SUM(D13:H13) -> 0
C14: 46568 | D14: 0 | E14: 0 | I14: =SUM(D14:H14) -> 0
C15: 46934 | D15: 0 | E15: 0 | F15: 0 | I15: =SUM(D15:H15) -> 0
C16: 47299 | D16: 0 | E16: 0 | F16: 0 | G16: 0 | I16: =SUM(D16:H16) -> 0
C17: 47664 | D17: 0 | E17: 0 | F17: 0 | G17: 0 | H17: 0 | I17: =SUM(D17:H17) -> 0
B19: Table 5.1.2
B20: IPP Schedule C2: Approved standard incentive rate base capex summary - commissioned basis (including capitalised operating leases)
C21: Disclosure year ending | D21: Value of standard incentive rate base capex allowance as determined 29 August 2024 | E21: Incremental approved standard incentive rate listed project base capex determined in 2025 | F21: Incremental approved standard incentive rate listed project base capex determined in 2026 | G21: Incremental approved standard incentive rate listed project base capex determined in 2027 | H21: Incremental approved standard incentive rate listed project base capex determined in 2028 | I21: Approved standard incentive rate base capex allowance for purposes of forecast MAR in the disclosure year
C22: Column 1 | D22: Column 2 | E22: Column 3 | F22: Column 4 | G22: Column 5 | H22: Column 6 | I22: Column 7
C23: 46203 | D23: 460.52916 | I23: =+SUM(D23:H23) -> 460.52916
C24: 46568 | D24: 585.41123 | E24: 29.402606 | F24: 0 | I24: =+SUM(D24:H24) -> 614.81384
C25: 46934 | D25: 436.99857 | E25: 0 | F25: 32.208568 | I25: =+SUM(D25:H25) -> 469.20714
C26: 47299 | D26: 437.20016 | E26: 0 | F26: 0 | G26: 0 | I26: =+SUM(D26:H26) -> 437.20016
C27: 47664 | D27: 630.37972 | E27: 0 | F27: 50.918542 | G27: 0 | H27: 0 | I27: =+SUM(D27:H27) -> 681.29826
B29: Table 5.1.3
B30: IPP Schedule C3: Approved low incentive rate base capex summary - expenditure basis (excluding capitalised operating leases)
C31: Disclosure year ending | D31: Value of low incentive rate base capex allowance as determined 29 August 2024 | E31: Incremental approved low incentive rate listed project base capex determined in 2025 | F31: Incremental approved low incentive rate listed project base capex determined in 2026 | G31: Incremental approved low incentive rate listed project base capex determined in 2027 | H31: Incremental approved low incentive rate listed project base capex determined in 2028 | I31: Approved low incentive rate base capex allowance for purposes of forecast MAR in the disclosure year
C32: Column 1 | D32: Column 2 | E32: Column 3 | F32: Column 4 | G32: Column 5 | H32: Column 6 | I32: Column 7
C33: 46203 | D33: 0 | I33: =+SUM(D33:H33) -> 0
C34: 46568 | D34: 0 | E34: 0 | I34: =+SUM(D34:H34) -> 0
C35: 46934 | D35: 0 | E35: 0 | F35: 0 | I35: =+SUM(D35:H35) -> 0
C36: 47299 | D36: 0 | E36: 0 | F36: 0 | G36: 0 | I36: =+SUM(D36:H36) -> 0
C37: 47664 | D37: 0 | E37: 0 | F37: 0 | G37: 0 | H37: 0 | I37: =+SUM(D37:H37) -> 0
B39: Table 5.1.4
B40: IPP Schedule C4: Approved standard incentive rate base capex summary - expenditure basis (excluding capitalised operating leases)
C41: Disclosure year ending | D41: Value of standard incentive rate base capex allowance as determined 29 August 2024 | E41: Incremental approved standard incentive rate listed project base capex determined in 2025 | F41: Incremental approved standard incentive rate listed project base capex determined in 2026 | G41: Incremental approved standard incentive rate listed project base capex determined in 2027 | H41: Incremental approved standard incentive rate listed project base capex determined in 2028 | I41: Approved standard incentive rate base capex allowance for purposes of forecast MAR in the disclosure year
C42: Column 1 | D42: Column 2 | E42: Column 3 | F42: Column 4 | G42: Column 5 | H42: Column 6 | I42: Column 7
C43: 46203 | D43: 490.20489 | F43: 2.3 | I43: =+SUM(D43:H43) -> 492.50489
C44: 46568 | D44: 508.81244 | E44: 29.440978 | F44: 9.7 | I44: =+SUM(D44:H44) -> 547.95342
C45: 46934 | D45: 449.43425 | E45: 0 | F45: 59.808568 | I45: =+SUM(D45:H45) -> 509.24281
...

Sheet Cognos_Office_Connection_Cache

Sheet 6_BaseCapexDisparitiesAdj
B2: Annual Compliance Statement 6. Standard incentive rate base capex - adjustments for CPI and foreign currency disparity
I3: Disclosure Year: | J3: =+'Directors Certificate'!K3 -> 46203
B4: 6.1 - Standard incentive rate base capex allowance - adjusted for actual CPI expenditure basis (excluding capitalised operating leases)
B5: Under the IPP, Transpower is compensated for the disparity between the CPI forecast as used in the IPP application and the actual CPI for each since the base capex allowance was set. The allowances table 6.1.1 is based on the schedules within tab 6 as set out in the IPP and account for reopeners made by Transpower. Amounts are reflected in equivalent dollars to the original allowance or reopener updated allowance and are therefore subject to the CPI adjustment.
B6: IPP Reference: 32.2 For the purposes of any disparity adjustments for calculating the ex-post economic gain or loss in clause 32.1,
B7: Table 6.1.1
F8: Total
D9: Item | E9: IPP reference | F9: Disclosure year (finishing June)
F10: 2026 | G10: =F10+1 -> 2027 | H10: =G10+1 -> 2028 | I10: =H10+1 -> 2029 | J10: =I10+1 -> 2030
B11: C + F | C11: Nominal forecast (as per IPP determination) | D11: Base capex allowance incl. reopeners (standard incentive rate) | E11: Schedule C4 | F11: ='5_BaseCapexAllowance'!I43 -> 492.50489 | G11: ='5_BaseCapexAllowance'!I44 -> 547.95342 | H11: ='5_BaseCapexAllowance'!I45 -> 509.24281 | I11: ='5_BaseCapexAllowance'!I46 -> 461.86085 | J11: ='5_BaseCapexAllowance'!I47 -> 466.63714
B12: D + G | C12: Real forecast (as per IPP determination - 2023 based) | E12: calculated | F12: =F11/'1_Inputs'!I23 -> 451.31422 | G12: =G11/'1_Inputs'!J23 -> 492.27971 | H12: =H11/'1_Inputs'!K23 -> 448.53159 | I12: =I11/'1_Inputs'!L23 -> 398.822 | J12: =J11/'1_Inputs'!M23 -> 395.04547
B13: E + H | C13: Nominal forecast (as per actual CPI outturn) | E13: calculated - when actual CPI is available | F13: =IFERROR(F12*'1_Inputs'!I25,0) -> 498.51658 | G13: =IFERROR(G12*'1_Inputs'!J25,0) -> 0 | H13: =IFERROR(H12*'1_Inputs'!K25,0) -> 0 | I13: =IFERROR(I12*'1_Inputs'!L25,0) -> 0 | J13: =IFERROR(J12*'1_Inputs'!M25,0) -> 0
B15: 6.2 - Standard incentive rate base capex allowance paid for in foreign currency - expenditure basis (excluding capitalised operating leases)
B16: Transpower's has a significant amount of capex paid for in foreign currency. The IPP sets Transpower's allowances using a forecast foreign exchange rate with Transpower having the ability to calculate a wash up on its foreign exchange transactions for the actual gain or loss as a result of the difference between the forecast FX per the IPP and the weighted average exchange rate calculated during the disclosure year.
B17: IPP Reference: 32.2 For the purposes of any disparity adjustments for calculating the ex-post economic gain or loss in clause 32.1
B19: Table 6.2.1 | F19: Disclosure year (finishing June)
C20: FX assumptions | D20: Source reference | F20: 2026 | G20: =F20+1 -> 2027 | H20: =G20+1 -> 2028 | I20: =H20+1 -> 2029 | J20: =I20+1 -> 2030
C21: Forecast FX rate (as per IPP clause 34.2.7 and 34.2.8)
B22: A1 | C22: US$/NZ$ | D22: Transpower IPP determination 2025, Part 5, clause 34.2.7(a) - (e) | F22: 0.61 | G22: 0.61 | H22: 0.61 | I22: 0.61 | J22: 0.61
B23: A2 | C23: EUR/NZ$ | D23: Transpower IPP determination 2025, Part 5, clause 34.2.8(a) | F23: 0.54 | G23: 0.54 | H23: 0.54 | I23: 0.54 | J23: 0.54
B24: A3 | C24: GBP/NZ$ | D24: Transpower IPP determination 2025, Part 5, clause 34.2.8(b) | F24: 0.49 | G24: 0.49 | H24: 0.49 | I24: 0.49 | J24: 0.49
B25: A4 | C25: AU$/NZ$ | D25: Transpower IPP determination 2025, Part 5, clause 34.2.8(c) | F25: 0.9 | G25: 0.9 | H25: 0.9 | I25: 0.9 | J25: 0.9
B26: A5 | C26: JPY/NZ$ | D26: Transpower IPP determination 2025, Part 5, clause 34.2.8(d) | F26: 87.85 | G26: 87.85 | H26: 87.85 | I26: 87.85 | J26: 87.85
B27: A6 | C27: SEK/NZ$ | D27: Transpower IPP determination 2025, Part 5, clause 34.2.8(e) | F27: 6.37 | G27: 6.37 | H27: 6.37 | I27: 6.37 | J27: 6.37
B28: A7 | C28: CA$/NZ$ | D28: Transpower IPP determination 2025, Part 5, clause 34.2.8(f) | F28: 0.8 | G28: 0.8 | H28: 0.8 | I28: 0.8 | J28: 0.8
C29: Actual FX rate (as per Transpower Capex IM)
B30: B1 | C30: US$/NZ$ | D30: weighted average exchange rate obtained by Transpower in its US$ transactions | F30: 0.6187146
B31: B2 | C31: EUR/NZ$ | D31: weighted average exchange rate obtained by Transpower in its EUR transactions | F31: 0.50956166
B32: B3 | C32: GBP/NZ$ | D32: weighted average exchange rate obtained by Transpower in its GBP transactions | F32: 0.43140004
B33: B4 | C33: AU$/NZ$ | D33: weighted average exchange rate obtained by Transpower in its AU$ transactions | F33: 0.85301346
B34: B5 | C34: JPY/NZ$ | D34: weighted average exchange rate obtained by Transpower in its JPY transactions | F34: 0
B35: B6 | C35: SEK/NZ$ | D35: weighted average exchange rate obtained by Transpower in its SEK transactions | F35: 5.449768
B36: B7 | C36: CA$/NZ$ | D36: weighted average exchange rate obtained by Transpower in its CA$ transactions | F36: 0
B43: Table 6.2.2 | F43: Total
C44: Paid in (Currency) | D44: IPP reference | F44: Total
F45: =F20 -> 2026 | G45: =G20 -> 2027 | H45: =H20 -> 2028 | I45: =I20 -> 2029 | J45: =J20 -> 2030
C46: Amount of the standard incentive rate base capex allowance to which the forecast FX rate applies
B47: C1 | C47: USD | D47: Table 5.1 (total amount); Transpower allocation to HVAC and HVDC | F47: 8.6 | G47: 10.6 | H47: 6.8 | I47: 16.3 | J47: 24
B48: C2 | C48: EUR | D48: Table 5.1 (total amount); Transpower allocation to HVAC and HVDC | F48: 3.7 | G48: 5.8 | H48: 3.8 | I48: 2.4 | J48: 3.2
B49: C3 | C49: GBP | D49: Table 5.1 (total amount); Transpower allocation to HVAC and HVDC | F49: 0 | G49: 0 | H49: 0 | I49: 0 | J49: 0
...

Sheet 7_Base&MajorCapexAdj
B2: Annual Compliance Statement 7. Standard incentive rate base capex and major capex adjustments
F3: Disclosure Year: | G3: =+'4_RAB'!E3 -> 46203
B4: 7.1 - Calculation of base capex adjustment
B5: In line with IPP clause 34.1.3(g), Transpower disclosed the after-tax economic gain or loss of a base capex expenditure adjustment, calculated in accordance with Schedule B, clause B1(1) of the Capex IM
B6: IPP Reference: 34.1 For the purposes of providing the information specified in clause 26.1.5 for the disclosure year, the updated summary of the EV account must show the source of calculation of the EV account entries 34.1.3(g) the after-tax economic gain or loss of a base capex expenditure adjustment, calculated in accordance with Schedule B, clause B1(1) of the Capex IM
B8: Table 7.1.1
C9: Description | G9: Total
C10: Standard incentive rate base capex expenditure adjustment | G10: =G26 -> 17.917435
B11: plus | C11: Low incentive rate base capex expenditure adjustment | G11: =G39 -> 0
C12: Base capex expenditure adjustment | G12: =G10+G11 -> 17.917435
B14: Table 7.1.2
C15: Description | D15: Specification | E15: Capex IM Schedule B, Clause B1 (2) | F15: discrete input | G15: Total
C16: Base capex standard incentive rate | D16: (1 - (1 / ((1 + vanilla WACC)^6))) * 100% | E16: a | F16: ='1_Inputs'!D14 -> 0.32157482
C17: Adjusted standard incentive rate base capex allowance | D17: d + d' + e + f + h | E17: b | G17: =+G19+G20+G21+G22+G24 -> 499.16241
C18: Base capex subject to the base capex standard incentive rate | D18: Base capex annual information required by an ID determination or a s 53ZD notice | E18: c | G18: 450.76533
C19: Standard incentive rate base capex allowance | D19: In accordance with clause 2.2.2(1)(a) of the Transpower Capex IM Determination 2012 | E19: d | G19: ='6_BaseCapexDisparitiesAdj'!F11-G20 -> 490.20489
C20: Approved base capex in respect of listed projects subject to the base capex standard incentive rate | D20: In accordance with clause 3.2.3(5)(d) of the Transpower Capex IM Determination 2012 | E20: d' | G20: ='5_BaseCapexAllowance'!F43 -> 2.3
C21: Adjustment correcting for capex disparity between forecast CPI and actual CPI in respect of d and d' | D21: Base capex annual information required by an ID determination or a s 53ZD notice | E21: e | G21: ='6_BaseCapexDisparitiesAdj'!F13-'6_BaseCapexDisparitiesAdj'!F11 -> 6.0116834
C22: Adjustment correcting for disparity between forecast FX rates and actual FX rates for each relevant currency in respect of d and d' | D22: Base capex annual information required by an ID determination or a s 53ZD notice | E22: f | G22: ='6_BaseCapexDisparitiesAdj'!F64 -> 0.64583319
C23: Adjusted standard incentive rate base capex allowance b to which the base capex standard incentive rate a does not apply | D23: Base capex annual information required by an ID determination or a s 53ZD notice | E23: g | G23: -7.3206968
C24: Adjustment, after correcting for the applicable portions of e and f, in respect of the portion of d that is subject to the base capex allowance adjustment mechanism | D24: Specified in an IPP determination | E24: h | G24: 0
C25: Net standard incentive rate base capex subject to the standard incentive rate | D25: b - c - g | E25: i | G25: =G17-G18-G23 -> 55.717779
C26: Standard incentive rate base capex expenditure adjustment | D26: a * i | G26: =F16*G25 -> 17.917435
C27: note: d` and i are not defined terms in Schedule B1. Included here to increase transparency.
B28: Table 7.1.3
C29: Description | D29: Specification | E29: Schedule B1 (3) Term | F29: Fixed input | G29: Total
C30: Base capex standard low rate | D30: 0.15 | E30: a* | F30: ='1_Inputs'!D15 -> 0.15
C31: Adjusted low incentive rate base capex allowance | D31: d* + d'* + e* + f* | E31: b* | G31: =G33+G34+G35+G36 -> 0
C32: Base capex subject to the base capex low incentive rate | D32: Base capex annual information required by an ID determination or a s 53ZD notice | E32: c* | G32: 0
C33: Low incentive rate base capex allowance | D33: In accordance with clause 2.2.2(1)(a) of the Transpower Capex IM Determination 2012 | E33: d* | G33: 0
C34: Approved base capex in respect of listed projects subject to the base capex low incentive rate | D34: In accordance with clause 3.2.3(5)(d) of the Transpower Capex IM Determination 2012 | E34: d'* | G34: 0
C35: Adjustment correcting for disparity between forecast CPI and actual CPI in respect of d* and d'* | D35: Base capex annual information required by an ID determination or a s 53ZD notice | E35: e* | G35: 0
C36: Adjustment correcting for disparity between forecast FX rates and actual FX rates for each relevant currency in respect of d* and d'* | D36: Base capex annual information required by an ID determination or a s 53ZD notice | E36: f* | G36: 0
C37: Adjusted low incentive rate base capex allowance b to which the base capex standard incentive rate a does not apply | D37: Base capex annual information required by an ID determination or a s 53ZD notice | E37: g* | G37: 0
C38: Net low incentive rate base capex subject to the low incentive rate | D38: b* - c* - g* | E38: h* | G38: =G31-G32-G37 -> 0
C39: Low incentive rate base capex expenditure adjustment | D39: (a*) * (h*) | G39: =F30*G38 -> 0
B41: 7.2 - Calculation of major capex expenditure and output adjustment
B42: In line with IPP clause 34.1.3(h), Transpower disclosed the after-tax economic gain or loss of a major capex expenditure and output adjustment, calculated in accordance with Schedule B, clause B3(1) of the Capex IM
B43: Table 7.2.1
C44: all $m
...

Sheet 8_OpexAllowance
B2: Annual Compliance Statement 8. Operational Expenditure (opex) Allowances
I3: Disclosure Year: | J3: =+'4_RAB'!E3 -> 46203
B4: 8.1 - opex allowances per the IPP
B5: Transpower's opex allowance is approved under the IPP as at November 2024 effective for the disclosure years ending 30 June 2026-30 June 2030. As part of the IPP, Transpower is eligible to apply for reopeners to its individual price-quality including a change in its opex allowances.
B6: The below schedules reflect all reopeners approved by the Commerce Commission. We note that as at the signing of the ACS, Transpower has an open reopener application with the Commerce Commission which will be entered into the year it relates to once approved.
B7: IPP Reference: Under the IPP Transpower is not required to disclose this schedule as part of the ACS, this is reported for completeness and reconciliation purposes
B10: Table 8.1.1
B11: IPP Schedule C5: Summary of opex allowances (excluding capitalised operating leases)
C12: Disclosure year ending | D12: opex allowance as determined 29 August 2024 | E12: Incremental opex allowance determined in 2025 | F12: Incremental opex allowance determined in 2026 | G12: Incremental opex allowance determined in 2027 | H12: Incremental opex allowance determined in 2028 | I12: opex allowance for purposes of forecast MAR in the disclosure year (sum of columns 2 to 6)
C13: Column 1 | D13: Column 2 | E13: Column 3 | F13: Column 4 | G13: Column 5 | H13: Column 6 | I13: Column 7
C14: 46203 | D14: 421.1 | I14: =+SUM(D14:H14) -> 421.1
C15: 46568 | D15: 419.3 | E15: 15.450302 | I15: =+SUM(D15:H15) -> 434.7503
C16: 46934 | D16: 440.8 | E16: 0 | F16: 16.8 | I16: =+SUM(D16:H16) -> 457.6
C17: 47299 | D17: 445 | E17: 0 | F17: 0 | G17: 0 | I17: =+SUM(D17:H17) -> 445
C18: 47664 | D18: 437.6 | E18: 0 | F18: 0 | G18: 0 | H18: 0 | I18: =+SUM(D18:H18) -> 437.6
B20: Table 8.1.2
B21: IPP Schedule C6: Summary of forecast opex for IRIS (including capitalised operating leases)
C22: Disclosure year ending | D22: Forecast opex for IRIS as determined 29 August 2024 | E22: Incremental forecast opex for IRIS determined in 2025 | F22: Incremental forecast opex for IRIS determined in 2026 | G22: Incremental forecast opex for IRIS determined in 2027 | H22: Incremental forecast opex for IRIS determined in 2028 | I22: Incremental forecast opex for IRIS determined in 2028 Forecast opex for IRIS (sum of columns 2 to 6)
C23: Column 1 | D23: Column 2 | E23: Column 3 | F23: Column 4 | G23: Column 5 | H23: Column 6 | I23: Column 7
C24: 46203 | D24: 432.4 | I24: =+SUM(D24:H24) -> 432.4
C25: 46568 | D25: 432.2 | E25: 15.450302 | I25: =+SUM(D25:H25) -> 447.6503
C26: 46934 | D26: 460.1 | E26: 0 | F26: 16.8 | I26: =+SUM(D26:H26) -> 476.9
C27: 47299 | D27: 457 | E27: 0 | F27: 0 | G27: 0 | I27: =+SUM(D27:H27) -> 457
C28: 47664 | D28: 448.7 | E28: 0 | F28: 0 | G28: 0 | H28: 0 | I28: =+SUM(D28:H28) -> 448.7
B30: ='Directors Certificate'!B57 -> Transpower's Annual Compliance Statement for the year ending 30 June 2026

Sheet 9_Opex
B2: Annual Compliance Statement 9. Operational expenditure (opex)
I3: Disclosure Year: | J3: =+'4_RAB'!E3 -> 46203
B4: 9.1 - Opex allowance and forecast opex
B5: Transpower is required to calculate the ex post economic gain or loss as a result of the difference in its allowances and its actual expenditure. Under the IPP, Transpower is compensated for the disparity between the CPI forecast as used in the IPP application and the actual CPI for each year since the opex allowance was set. The allowances table 8.1.1 is based on the schedules within tab 8 as set out in the IPP and account for reopeners made by Transpower. Amounts are reflected in equivalent dollars to the original allowance or reopener updated allowance and are therefore subject to the CPI adjustment.
B6: IPP Reference: 32.1 For the purposes of annually calculating the ex-post economic gain or loss, Transpower must use: 32.1.7 the opex allowance, excluding operating lease payments capitalised in accordance with the Transpower IM, specified in Schedule C5. For any disparity adjustments for calculating the opex incentive amount in clause 36.2, the forecast CPI that applied when the opex allowance and forecast opex were determined, as specified in Schedule C8. 36.2 For the purposes of clause 36.1 and any disparity adjustments in calculating the opex incentive amount, the forecast CPI that applied when the forecast opex was determined is the same as that set out in Schedule C8.
B8: Table 9.1.1
D9: Item | E9: IPP reference | F9: Disclosure year (finishing June)
F10: 2026 | G10: =F10+1 -> 2027 | H10: =G10+1 -> 2028 | I10: =H10+1 -> 2029 | J10: =I10+1 -> 2030
B11: C + L | C11: Nominal forecast (as per IPP determination) | D11: Opex allowance (excluding operating lease payments otherwise capitalised with the Transpower IM) | E11: Schedule C5 of the IPP | F11: ='8_OpexAllowance'!I14 -> 421.1 | G11: ='8_OpexAllowance'!I15 -> 434.7503 | H11: ='8_OpexAllowance'!I16 -> 457.6 | I11: ='8_OpexAllowance'!I17 -> 445 | J11: ='8_OpexAllowance'!I18 -> 437.6
B12: D + M | D12: Operating lease payments otherwise capitalised with the Transpower IM | E12: calculated | F12: =F13-F11 -> 11.3 | G12: =G13-G11 -> 12.9 | H12: =H13-H11 -> 19.3 | I12: =I13-I11 -> 12 | J12: =J13-J11 -> 11.1
B13: E + N | D13: Forecast opex (including operating lease payments otherwise capitalised with the Transpower IM) | E13: Schedule C6 of the IPP | F13: ='8_OpexAllowance'!I24 -> 432.4 | G13: ='8_OpexAllowance'!I25 -> 447.6503 | H13: ='8_OpexAllowance'!I26 -> 476.9 | I13: ='8_OpexAllowance'!I27 -> 457 | J13: ='8_OpexAllowance'!I28 -> 448.7
B14: F + O | C14: Real forecast (as per IPP determination - 2018 based) | D14: Opex allowance (excluding operating lease payments otherwise capitalised with the Transpower IM) | E14: calculated | F14: =F11/'1_Inputs'!I23 -> 385.88128 | G14: =G11/'1_Inputs'!J23 -> 390.57837 | H14: =H11/'1_Inputs'!K23 -> 403.04556 | I14: =I11/'1_Inputs'!L23 -> 384.26247 | J14: =J11/'1_Inputs'!M23 -> 370.46322
B15: G + P | D15: Operating lease payments otherwise capitalised with the Transpower IM | E15: calculated | F15: =+F12/'1_Inputs'!I23 -> 10.354924 | G15: =G12/'1_Inputs'!J23 -> 11.589321 | H15: =H12/'1_Inputs'!K23 -> 16.999081 | I15: =I12/'1_Inputs'!L23 -> 10.362134 | J15: =J12/'1_Inputs'!M23 -> 9.3970332
B16: H + Q | D16: Forecast opex (including operating lease payments otherwise capitalised with the Transpower IM) | E16: calculated | F16: =+F15+F14 -> 396.2362 | G16: =SUM(G14:G15) -> 402.16769 | H16: =SUM(H14:H15) -> 420.04464 | I16: =SUM(I14:I15) -> 394.6246 | J16: =SUM(J14:J15) -> 379.86025
B17: I + R | C17: Nominal forecast (as per actual CPI outturn) | D17: Opex allowance (excluding operating lease payments otherwise capitalised with the Transpower IM) | E17: calculated | F17: =IFERROR(F14*'1_Inputs'!I25,0) -> 426.24009 | G17: =IFERROR(G14*'1_Inputs'!J25,0) -> 0 | H17: =IFERROR(H14*'1_Inputs'!K25,0) -> 0 | I17: =IFERROR(I14*'1_Inputs'!L25,0) -> 0 | J17: =IFERROR(J14*'1_Inputs'!M25,0) -> 0
B18: J + S | D18: Operating lease payments otherwise capitalised with the Transpower IM | E18: calculated | F18: =IFERROR(F15*'1_Inputs'!I25,0) -> 11.437932 | G18: =IFERROR(G15*'1_Inputs'!J25,0) -> 0 | H18: =IFERROR(H15*'1_Inputs'!K25,0) -> 0 | I18: =IFERROR(I15*'1_Inputs'!L25,0) -> 0 | J18: =IFERROR(J15*'1_Inputs'!M25,0) -> 0
B19: K + T | D19: Forecast opex (including operating lease payments otherwise capitalised with the Transpower IM) | E19: calculated | F19: =+F18+F17 -> 437.67802 | G19: =SUM(G17:G18) -> 0 | H19: =SUM(H17:H18) -> 0 | I19: =SUM(I17:I18) -> 0 | J19: =SUM(J17:J18) -> 0
C21: Reader Note: Transpower's total nominal opex allowance and nominal forecast opex are specified in the IPP determination 2025. The nominal forecast of operating lease payments otherwise capitalised with the Transpower IM simply is the difference of the two.
B23: 9.2 - Differences between the forecast opex and actual opex
B24: Transpower forecasts the expected opex expenditure as part of the IPP requirements, Transpower is required to disclose the difference in the forecast opex per the IPP and the actual opex spent during the year, including for the operating lease payments otherwise capitalised.
B25: IPP Reference: 26.1.7 an explanation for the difference between the forecast opex and actual opex, including in each forecast amount and actual amount, the operating lease payments otherwise capitalised in accordance with the Transpower IM;
B27: Table 9.2.1
C28: Operating Expenditure | F28: Disclosure year (finishing June)
F29: 2026 | G29: =F29+1 -> 2027 | H29: =G29+1 -> 2028 | I29: =H29+1 -> 2029 | J29: =I29+1 -> 2030
C30: Forecast opex - (excluding operating lease payments otherwise capitalised with the Transpower IM) - updated for actual CPI | E30: calculated | F30: =F17 -> 426.24009 | G30: =G17 -> 0 | H30: =H17 -> 0 | I30: =I17 -> 0 | J30: =J17 -> 0
B31: less | C31: Actual opex | E31: Actuals | F31: 402.13072
C32: Difference | F32: =F30-F31 -> 24.10937 | G32: =G30-G31 -> 0 | H32: =H30-H31 -> 0 | I32: =I30-I31 -> 0 | J32: =J30-J31 -> 0
C34: Explanation for the difference (the current disclosure year)
C35: Variance is driven by increase in insurance premiums and higher operational maintenance costs.
B37: Table 9.2.2 | H37: $m
C38: Lease Payments | F38: Disclosure year (finishing June)
F39: 2026 | G39: =F39+1 -> 2027 | H39: =G39+1 -> 2028 | I39: =H39+1 -> 2029 | J39: =I39+1 -> 2030
C40: Operating lease payments | E40: calculated | F40: =+F18 -> 11.437932 | G40: =+G18 -> 0 | H40: =+H18 -> 0 | I40: =+I18 -> 0 | J40: =+J18 -> 0
B41: less | C41: Actual operating lease payments otherwise capitalised with the Transpower IM | E41: Actuals | F41: 12.728786
C42: Difference | F42: =F40-F41 -> -1.2908543 | G42: =G40-G41 -> 0 | H42: =H40-H41 -> 0 | I42: =I40-I41 -> 0 | J42: =J40-J41 -> 0
C44: Explanation for the difference (the current disclosure year)
B47: Table 9.2.3
C48: Total | F48: Disclosure year (finishing June)
F49: 2026 | G49: =F49+1 -> 2027 | H49: =G49+1 -> 2028 | I49: =H49+1 -> 2029 | J49: =I49+1 -> 2030
C50: Total opex and operating lease payments | E50: calculated | F50: =+F30+F40 -> 437.67802 | G50: =+G19 -> 0 | H50: =+H19 -> 0 | I50: =+I19 -> 0 | J50: =+J19 -> 0
...

Sheet 10_EVAccount
B2: Annual Compliance Statement 10. EV Account Summary, Entries and Forecasts
G3: Disclosure Year: | H3: =+'4_RAB'!E3 -> 46203
B4: 10.1 - An updated summary of the EV account as set out in Schedule B
B5: The EV account (Economic Value account) is a regulatory account used to track amounts that need to be returned to, or recovered from, customers in future regulatory periods under the IPP framework. It does not represent physical assets or cash held by Transpower. Instead, it records timing differences between forecast and actual regulatory outcomes. Note: - a positive - account balance is a $ amount that Transpower will rcover from customers and a negative (-) account balance is a $ amount that Transpower will repay customers. - EV account entries for the remaining future disclosure years purely reflect timing differences in how Transpower collects its total maximum allowable revenue across RCP4. This is a result of the Commerce Commission setting a smoothed revenue path for Transpower in RCP4 (i.e. Transpower's maximum allowable revenue in RCP4 is levelised across the five years, smoothing the annual maximum allowable revenue (MAR) in net present value neutral terms across RCP4 (referred to as SMAR))
B6: IPP Reference: 26.1.5 an updated summary of the EV account as set out in Schedule B and an updated forecast EV account balance at the end of RCP4, where these are supported by the further information required in clause 34.1, and where the EV account entries are calculated in accordance with clause 34.2; 34.1.1 a reconciliation of the opening and closing balances of the EV account that takes into account: (a) the opening balance of the EV account; (b) the calculation of interest at the post-tax estimate corresponding to WACC on the opening balance of the EV account; (c) EV account entries; and (d) post-tax amounts included in calculating the forecast EV adjustments in respect of the closing EV account balance for the final disclosure year of RCP3.
B8: Table 10.1.1
B9: IPP Schedule B: EV account summary
C10: Item | D10: Description | E10: Schedule B reference | F10: discrete input | G10: Disclosure year (finishing June)
C11: Column 1 | D11: Column 3 | E11: Column 2 | G11: 2026 | H11: 2027 | I11: 2028 | J11: 2029 | K11: 2030
C12: Opening EV account balance (for the disclosure year) | D12: Closing balance in the EV account for the previous disclosure year | E12: A | G12: 116.44305 | H12: =+G17 -> 150.17174 | I12: =+H17 -> 0
C13: Post-tax WACC | D13: The post-tax estimate corresponding to WACC | E13: B | F13: ='1_Inputs'!D13 -> 0.0644
C14: Interest on opening EV account balance | D14: Opening EV account balance multiplied by the post-tax estimate corresponding to WACC | E14: C = A * B | F14: Calculated | G14: =+G12*$F$13 -> 7.4989322 | H14: =+H12*$F$13 -> 9.6710601 | I14: =+I12*$F$13 -> 0 | J14: =+J12*$F$13 -> 0 | K14: =+K12*$F$13 -> 0
C15: EV account entries | D15: The EV account entries calculated in accordance with clause 34.2 | E15: D | F15: Calculated | G15: =G36 -> 59.412525
C16: Post-tax amount included in calculating the forecast EV adjustment for the disclosure year in respect of the closing EV account balance for the final disclosure year of RCP3 | D16: Amount for the disclosure year in RCP4 in respect of the forecast closing post-tax EV account balance for the final disclosure year of RCP3, as set out in clause 35.1 | E16: E | G16: ='3_RevenueBuildingBlocks'!I81 -> 33.182764 | I16: 33.182764 | K16: 33.182764
C17: Closing EV account balance (for the disclosure year) | D17: Opening EV account balance plus interest on opening EV account balance, plus EV account entries, minus forecast EV adjustment | E17: F = A + C + D - E | G17: =SUM(G12:G15)-G16 -> 150.17174
B19: 10.2 - EV account entries
B20: The EV account exists to ensure intertemporal neutrality between Transpower and consumers. It smooths the effects of wash‑up outcomes (differences between forecast and actual revenues, opex, incentives, etc.), and incentive scheme outcomes (including efficiency incentives), so that customers ultimately pay (or are refunded) the economic value implied by the regulatory settings.
